BEGIN:VCALENDAR
VERSION:2.0
PRODID:-//ChamberMaster//Event Calendar 2.0//EN
METHOD:PUBLISH
X-PUBLISHED-TTL:P3D
REFRESH-INTERVAL:P3D
CALSCALE:GREGORIAN
BEGIN:VEVENT
DTSTART:20120418T153000Z
DTEND:20120418T170000Z
X-MICROSOFT-CDO-ALLDAYEVENT:FALSE
SUMMARY:Membership Meeting - April 2012
DESCRIPTION:Bunker Hill Golf Course\n\n	3060 Pearl Rd.\n\n	Medina\, OH 44256 \n\n	\n\n	11:30am - 1pm on Wednesday\, April 18\n\n	\n\n	$15 to attend\, Lunch provided by Bunker Hill!\n\n	\n\n	Speaker: Seth Kujat of the United Way of Medina County
X-ALT-DESC;FMTTYPE=text/html:<p style="text-align: center\; ">\n	<br />\n	<span style="font-size:12px\;"><span style="color: rgb(0\, 0\, 0)\; font-family: Arial\, Helvetica\, 'MS Sans Serif'\, sans-serif\; ">Bunker Hill Golf Course</span><br style="color: rgb(0\, 0\, 0)\; font-family: Arial\, Helvetica\, 'MS Sans Serif'\, sans-serif\; font-size: 11px\; " />\n	<span style="color: rgb(0\, 0\, 0)\; font-family: Arial\, Helvetica\, 'MS Sans Serif'\, sans-serif\; ">3060 Pearl Rd.</span><br style="color: rgb(0\, 0\, 0)\; font-family: Arial\, Helvetica\, 'MS Sans Serif'\, sans-serif\; font-size: 11px\; " />\n	<span style="color: rgb(0\, 0\, 0)\; font-family: Arial\, Helvetica\, 'MS Sans Serif'\, sans-serif\; ">Medina\, OH 44256&nbsp\;</span></span><br />\n	<br />\n	<span style="font-size:12px\;">11:30am - 1pm&nbsp\;on Wednesday\, April 18<br />\n	<br />\n	$15 to attend\, Lunch provided by Bunker Hill!<br />\n	<br />\n	Speaker: Seth Kujat of the United Way of Medina County</span></p>\n
LOCATION:Bunker Hill Golf Course 3060 Pearl Rd. Medina\, OH 44256
UID:e.160.1728
SEQUENCE:3
DTSTAMP:20260423T015224Z
URL:https://members.nmccalliance.com/events/details/membership-meeting-april-2012-04-18-2012-1728
END:VEVENT

END:VCALENDAR
