BEGIN:VCALENDAR
VERSION:2.0
PRODID:-//ChamberMaster//Event Calendar 2.0//EN
METHOD:PUBLISH
X-PUBLISHED-TTL:P3D
REFRESH-INTERVAL:P3D
CALSCALE:GREGORIAN
BEGIN:VEVENT
DTSTART:20111116T123000Z
DTEND:20111116T140000Z
X-MICROSOFT-CDO-ALLDAYEVENT:FALSE
SUMMARY:Membership Meeting & CCC Combined Event - November 2011
DESCRIPTION:Meeting will be held at the Brunswick Recreation Center and breakfast will be provided by Buehler's Fresh Foods!  The meeting is a combined event with the November City\, Commerce\, & Coffee event. \n\n\n\nThe meeting sponsors are Baskets Galore and Life Care Centers of America!
X-ALT-DESC;FMTTYPE=text/html:Meeting will be held at the Brunswick Recreation Center and breakfast will be provided by Buehler&#39\;s Fresh Foods!&nbsp\; The meeting is a combined event with the November City\, Commerce\, &amp\; Coffee event.&nbsp\;<br />\n<br />\n<span style="font-size: 16px">The meeting sponsors are <a href="http://www.basketsgaloregifts.com/">Baskets Galore</a> and <a href="http://www.lcca.com/facility.php?facid=185">Life Care Centers of America</a>!</span><br />\n<br />\n<br />\n
LOCATION:Brunswick Recreation Center
UID:e.160.1648
SEQUENCE:3
DTSTAMP:20260423T103139Z
URL:https://members.nmccalliance.com/events/details/membership-meeting-ccc-combined-event-november-2011-11-16-2011-1648
END:VEVENT

END:VCALENDAR
