BEGIN:VCALENDAR
VERSION:2.0
PRODID:-//ChamberMaster//Event Calendar 2.0//EN
METHOD:PUBLISH
X-PUBLISHED-TTL:P3D
REFRESH-INTERVAL:P3D
CALSCALE:GREGORIAN
BEGIN:VEVENT
DTSTART:20110216T163000Z
DTEND:20110216T183000Z
X-MICROSOFT-CDO-ALLDAYEVENT:FALSE
SUMMARY:Membership Meeting - February 2011
DESCRIPTION:February Membership Meeting - lunch by Coppertop!\n\n	\n\n	This meeting is sponsored by Midpoint Campus Center!
X-ALT-DESC;FMTTYPE=text/html:<p>\n	February Membership Meeting - lunch by Coppertop!<br />\n	<br />\n	This meeting is sponsored by Midpoint Campus Center!&nbsp\;</p>\n
LOCATION:Coppertop at Cherokee Hills 5740 Center Rd. Valley City\, OH 44280
UID:e.160.1584
SEQUENCE:3
DTSTAMP:20260424T010704Z
URL:https://members.nmccalliance.com/events/details/membership-meeting-february-2011-02-16-2011-1584
END:VEVENT

END:VCALENDAR
