BEGIN:VCALENDAR
VERSION:2.0
PRODID:-//ChamberMaster//Event Calendar 2.0//EN
METHOD:PUBLISH
X-PUBLISHED-TTL:P3D
REFRESH-INTERVAL:P3D
CALSCALE:GREGORIAN
BEGIN:VEVENT
DTSTART:20120215T163000Z
DTEND:20120215T180000Z
X-MICROSOFT-CDO-ALLDAYEVENT:FALSE
SUMMARY:Membership Meeting - February 2012
DESCRIPTION:Topic: State of Your Health\n\n	\n\n	Health screenings start at 11am!\n\n	\n\n	$15 to attend\, lunch included!\n\n	\n\n	Brunswick Family Health Center (Cleveland Clinic) - 2nd Floor\n\n	3574 Center Road\n\n	Brunswick\, OH 44212\n\n	\n\n	Wednesday\, February 15\, 2012\n\n	11:30am-1pm\n\n	\n\n	Sponsor:\n\n	Medina Hospital Company Health
X-ALT-DESC;FMTTYPE=text/html:<p style="text-align: center">\n	<br />\n	<span style="font-size: 16px"><strong><span style="font-size: 18px">Topic: State of Your Health</span></strong><br />\n	<br />\n	Health screenings start at 11am!<br />\n	<br />\n	$15 to attend\, lunch included!<br />\n	<br />\n	<strong>Brunswick Family Health Center (Cleveland Clinic) - </strong><font size="3"><strong>2nd Floor</strong><br />\n	3574&nbsp\;Center Road</font><br />\n	Brunswick\, OH 44212<br />\n	<br />\n	Wednesday\, February 15\, 2012<br />\n	11:30am-1pm<br />\n	<br />\n	<span style="font-size: 18px">Sponsor:<br />\n	<a href="http://my.clevelandclinic.org/locations_directions/regional-locations/medina-hospital/specialties/company-health-care.aspx">Medina Hospital Company Health</a></span></span></p>\n
LOCATION:Brunswick Family Health Center (Cleveland Clinic) - 2nd Floor 3574 Center Road Brunswick\, OH 44212
UID:e.160.1717
SEQUENCE:3
DTSTAMP:20260423T051824Z
URL:https://members.nmccalliance.com/events/details/membership-meeting-february-2012-02-15-2012-1717
END:VEVENT

END:VCALENDAR
