BEGIN:VCALENDAR
VERSION:2.0
PRODID:-//ChamberMaster//Event Calendar 2.0//EN
METHOD:PUBLISH
X-PUBLISHED-TTL:P3D
REFRESH-INTERVAL:P3D
CALSCALE:GREGORIAN
BEGIN:VEVENT
DTSTART:20130220T163000Z
DTEND:20130220T180000Z
X-MICROSOFT-CDO-ALLDAYEVENT:FALSE
SUMMARY:Membership Meeting - February 2013
DESCRIPTION:Topic: \n\n	State of the County\n\n	by Bethany Dentler \n\n	Medina County Economic Development Corp\n\n	\n\n	\n\n	\n\n	$15 to attend\, lunch included!\n\n	Winking Lizard Private Room\n\n	\n\n	\n\n	\n\n	Wednesday\, February 20\, 2013\n\n	11:30am-1pm
X-ALT-DESC;FMTTYPE=text/html:<p style="text-align: center">\n	<br />\n	<span style="font-size: 16px"><strong><span style="font-size: 18px">Topic: </span></strong><br />\n	State of the County<br />\n	by Bethany Dentler&nbsp\;<br />\n	Medina County Economic Development Corp<br />\n	<br />\n	<br />\n	<br />\n	$15 to attend\, lunch included!<br />\n	Winking Lizard Private Room<br />\n	<br />\n	<br />\n	<br />\n	Wednesday\, February 20\, 2013<br />\n	11:30am-1pm</span></p>\n
LOCATION:Winking Lizard Private Room
UID:e.160.1781
SEQUENCE:3
DTSTAMP:20260422T093401Z
URL:https://members.nmccalliance.com/events/details/membership-meeting-february-2013-02-20-2013-1781
END:VEVENT

END:VCALENDAR
