BEGIN:VCALENDAR
VERSION:2.0
PRODID:-//ChamberMaster//Event Calendar 2.0//EN
METHOD:PUBLISH
X-PUBLISHED-TTL:P3D
REFRESH-INTERVAL:P3D
CALSCALE:GREGORIAN
BEGIN:VEVENT
DTSTART:20120118T123000Z
DTEND:20120118T140000Z
X-MICROSOFT-CDO-ALLDAYEVENT:FALSE
SUMMARY:Membership Meeting - January 2012
DESCRIPTION:Topic: State of the City\n\n	Speaker: Jim Lukas\, City Manager\n\n	\n\n	$15 to attend\, breakfast included!\n\n	\n\n	Brunswick Recreation Center\n\n	3637 Center Road\n\n	Brunswick\, OH 44212\n\n	\n\n	Wednesday\, January 18\, 2012\n\n	7:30-9am\n\n	\n\n	Sponsors:\n\n	Brunswick Rotary
X-ALT-DESC;FMTTYPE=text/html:<p style="text-align: center">\n	<br />\n	<span style="font-size: 16px"><strong><span style="font-size: 18px">Topic: State of the City<br />\n	Speaker: Jim Lukas\, City Manager</span></strong><br />\n	<br />\n	$15 to attend\, breakfast included!<br />\n	<br />\n	Brunswick Recreation Center<br />\n	<font size="3">3637 Center Road</font><br />\n	Brunswick\, OH 44212<br />\n	<br />\n	Wednesday\, January 18\, 2012<br />\n	7:30-9am<br />\n	<br />\n	<span style="font-size: 18px">Sponsors:<br />\n	<a href="http://www.brunswickrotary.com/">Brunswick Rotary</a></span></span></p>\n
LOCATION:Brunswick Recreation Center 3637 Center Road Brunswick\, OH 44212
UID:e.160.1684
SEQUENCE:3
DTSTAMP:20260423T065259Z
URL:https://members.nmccalliance.com/events/details/membership-meeting-january-2012-01-18-2012-1684
END:VEVENT

END:VCALENDAR
