BEGIN:VCALENDAR
VERSION:2.0
PRODID:-//ChamberMaster//Event Calendar 2.0//EN
METHOD:PUBLISH
X-PUBLISHED-TTL:P3D
REFRESH-INTERVAL:P3D
CALSCALE:GREGORIAN
BEGIN:VEVENT
DTSTART:20110316T113000Z
DTEND:20110316T130000Z
X-MICROSOFT-CDO-ALLDAYEVENT:FALSE
SUMMARY:Membership Meeting - March 2011
DESCRIPTION:Breakfast will be served by Madd Chef's Bistro!\n\n\n\nTopic: "Technology to Make Your Life Easier" by Natalie Morris from Morris MC.\n\n\n\nThe meeting will be sponsored by The Plain Dealer\, Sun News\, & cleveland.com and Edward Jones - Claus Meyer!
X-ALT-DESC;FMTTYPE=text/html:Breakfast will be served by Madd Chef&#39\;s Bistro!<br />\n<br />\nTopic: &quot\;Technology to Make Your Life Easier&quot\; by Natalie Morris from <a href="http://www.morrismc.com">Morris MC</a>.<br />\n<br />\n<span style="font-size: 14px"><strong>The meeting will be sponsored by <a href="http://cleveland.com">The Plain Dealer\, Sun News\, &amp\; cleveland.com</a>&nbsp\;and <a href="http://www.edwardjones.com/cgi/getHTML.cgi?page=/USA/IR/market/index.html&amp\;CIRN=860433">Edward Jones - Claus Meyer</a>!</strong></span>
LOCATION:The Multi-purpose room in the Brunswick Recreation Center
UID:e.160.1618
SEQUENCE:3
DTSTAMP:20260423T235404Z
URL:https://members.nmccalliance.com/events/details/membership-meeting-march-2011-03-16-2011-1618
END:VEVENT

END:VCALENDAR
