BEGIN:VCALENDAR
VERSION:2.0
PRODID:-//ChamberMaster//Event Calendar 2.0//EN
METHOD:PUBLISH
X-PUBLISHED-TTL:P3D
REFRESH-INTERVAL:P3D
CALSCALE:GREGORIAN
BEGIN:VEVENT
DTSTART;VALUE=DATE:20120321
DTEND;VALUE=DATE:20120322
TRANSP:TRANSPARENT
X-MICROSOFT-CDO-ALLDAYEVENT:TRUE
SUMMARY:Membership Meeting - March 2012
DESCRIPTION:Speed Networking Event!\n\n\n\nBrunswick Rec Center\n\n7:30-9am\n\n\n\n\n\n$15 to attend\, includes breakfast\n\n\n\nMeeting Sponsor: The Post Newspapers
X-ALT-DESC;FMTTYPE=text/html:Speed Networking Event!<br />\n<br />\nBrunswick Rec Center<br />\n7:30-9am<br />\n<br />\n<br />\n$15 to attend\, includes breakfast<br />\n<br />\n<strong><span style="font-size: 14px">Meeting Sponsor: <a href="http://www.thepostnewspapers.com">The Post Newspapers</a></span></strong><span style="font-size: 14px"></span>
LOCATION:Brunswick Recreation Center
UID:e.160.1690
SEQUENCE:3
DTSTAMP:20260423T051635Z
URL:https://members.nmccalliance.com/events/details/membership-meeting-march-2012-03-21-2012-1690
END:VEVENT

END:VCALENDAR
