BEGIN:VCALENDAR
VERSION:2.0
PRODID:-//ChamberMaster//Event Calendar 2.0//EN
METHOD:PUBLISH
X-PUBLISHED-TTL:P3D
REFRESH-INTERVAL:P3D
CALSCALE:GREGORIAN
BEGIN:VEVENT
DTSTART:20110518T113000Z
DTEND:20110518T130000Z
X-MICROSOFT-CDO-ALLDAYEVENT:FALSE
SUMMARY:Membership Meeting - May 2011
DESCRIPTION:Breakfast provided by Buehler's Fresh Foods!\n\n\n\nTopic: How do you become a visitor in your own city?...the top summer activities in Northeast Ohio\n\n\n\nSpeaker: Lexi Robinson-Hotchkiss of Positively Cleveland\n\n\n\nMeeting Sponsor: Cuyahoga Community College!
X-ALT-DESC;FMTTYPE=text/html:Breakfast provided by Buehler&#39\;s Fresh Foods!<br />\n<br />\nTopic: How do you become a visitor in your own city?...the top summer activities in Northeast Ohio<br />\n<br />\nSpeaker: Lexi Robinson-Hotchkiss of <a href="http://www.positivelycleveland.com/">Positively Cleveland</a><br />\n<br />\n<span style="font-size: 18px">Meeting Sponsor: <a href="http://www.tri-c.edu/campuses/brunswick/Pages/Home.aspx">Cuyahoga Community College</a>!</span>
LOCATION:Brunswick Recreation Center 3637 Center Road Brunswick\, OH 44212
UID:e.160.1624
SEQUENCE:3
DTSTAMP:20260423T201301Z
URL:https://members.nmccalliance.com/events/details/membership-meeting-may-2011-05-18-2011-1624
END:VEVENT

END:VCALENDAR
