BEGIN:VCALENDAR
VERSION:2.0
PRODID:-//ChamberMaster//Event Calendar 2.0//EN
METHOD:PUBLISH
X-PUBLISHED-TTL:P3D
REFRESH-INTERVAL:P3D
CALSCALE:GREGORIAN
BEGIN:VEVENT
DTSTART:20120516T113000Z
DTEND:20120516T130000Z
X-MICROSOFT-CDO-ALLDAYEVENT:FALSE
SUMMARY:Membership Meeting - May 2012
DESCRIPTION:Speakers: \n\n	\n		Melissa Krebs (Brunswick Area Chamber of Commerce) - China Trip 2012\n	\n		Dan Hostetler (Medina County Convention and Visitors Bureau) - Fun Things to do this Summer in Medina County\n	\n		Susan Ungham (Medina County District Library) - Summer Activities at the Library\n\n\n\nThis meeting is sponsored by Midpoint Campus Center and Medina County University Center.\n\n\n\n$15 to attend\, breakfast provided by Eileen's Catering!
X-ALT-DESC;FMTTYPE=text/html:<span style="font-size:14px\;">Speakers: </span>\n<ul>\n	<li>\n		<span style="font-size:14px\;">Melissa Krebs (Brunswick Area Chamber of Commerce) - China Trip 2012</span></li>\n	<li>\n		<span style="font-size:14px\;">Dan Hostetler&nbsp\;(Medina County Convention and Visitors Bureau) - Fun Things to do this Summer in Medina County</span></li>\n	<li>\n		<span style="font-size:14px\;">Susan Ungham&nbsp\;(Medina County District Library) - Summer Activities at the Library</span></li>\n</ul>\n<br />\n<span style="font-size:14px\;"><span style="font-size:16px\;">This meeting is sponsored by <strong><a href="http://www.midpointcampus.com/">Midpoint Campus Center</a>&nbsp\;and <a href="http://www.uakron.edu/mcuc/">Medina County University Center</a></strong>.<br />\n<br />\n<span style="font-size:14px\;">$15 to attend\, breakfast provided by Eileen&#39\;s Catering!</span></span></span><br />\n
LOCATION:Brunswick Recreation Center 3637 Center Road Brunswick\, OH 44212
UID:e.160.1730
SEQUENCE:3
DTSTAMP:20260423T001437Z
URL:https://members.nmccalliance.com/events/details/membership-meeting-may-2012-05-16-2012-1730
END:VEVENT

END:VCALENDAR
