BEGIN:VCALENDAR
VERSION:2.0
PRODID:-//ChamberMaster//Event Calendar 2.0//EN
METHOD:PUBLISH
X-PUBLISHED-TTL:P3D
REFRESH-INTERVAL:P3D
CALSCALE:GREGORIAN
BEGIN:VEVENT
DTSTART:20121128T123000Z
DTEND:20121128T140000Z
X-MICROSOFT-CDO-ALLDAYEVENT:FALSE
SUMMARY:Membership Meeting - November 2012
DESCRIPTION:Speed Networking Event!\n\n	\n\n	\n\n	Brunswick Rec Center\n\n	7:30-9am\n\n	$15 to attend\, includes breakfast\n\n	\n\n	\n\n	This event will NOT have a speaker.\n\n	This is a networking event!\n\n	Come prepared with your business cards and your 30-second business description!\n\n	\n\n	Sponsored by: Medina County District Library
X-ALT-DESC;FMTTYPE=text/html:<div style="text-align: center\; ">\n	<br />\n	<br />\n	<span style="font-size:16px\;"><strong>Speed Networking Event!</strong></span><br />\n	<br />\n	<br />\n	<span style="font-size:14px\;">Brunswick Rec Center<br />\n	7:30-9am<br />\n	$15 to attend\, includes breakfast</span><br />\n	<br />\n	<br />\n	<em><span style="font-size:14px\;">This event will NOT have a speaker.<br />\n	This is a networking event!<br />\n	Come prepared with your business cards and your 30-second business description!</span></em><br />\n	<br />\n	<strong><span style="font-size:16px\;">Sponsored by: <a href="http://www.medina.lib.oh.us/">Medina County District Library</a></span><span style="font-size:14px\;"></span></strong></div>\n
LOCATION:Brunswick Recreation Center
UID:e.160.1755
SEQUENCE:3
DTSTAMP:20260422T141815Z
URL:https://members.nmccalliance.com/events/details/membership-meeting-november-2012-11-28-2012-1755
END:VEVENT

END:VCALENDAR
