BEGIN:VCALENDAR
VERSION:2.0
PRODID:-//ChamberMaster//Event Calendar 2.0//EN
METHOD:PUBLISH
X-PUBLISHED-TTL:P3D
REFRESH-INTERVAL:P3D
CALSCALE:GREGORIAN
BEGIN:VEVENT
DTSTART:20111026T153000Z
DTEND:20111026T170000Z
X-MICROSOFT-CDO-ALLDAYEVENT:FALSE
SUMMARY:Membership Meeting - October 2011
DESCRIPTION:Meeting will be held at the Cherokee Hills Golf Course and lunch will be provided by Coppertop!\n\n\n\nTopic:  State of the Schools by Superintendent Mike Mayell\n\n\n\nMeeting sponsors are Midpoint Campus Center and KD Insurance Group!
X-ALT-DESC;FMTTYPE=text/html:Meeting will be held at the Cherokee Hills Golf Course and lunch will be provided by Coppertop!<br />\n<br />\nTopic:&nbsp\; State of the Schools by Superintendent Mike Mayell<br />\n<br />\n<span style="font-size: 16px">Meeting sponsors are <strong><a href="http://www.midpointcampus.com/">Midpoint Campus Center</a></strong> and <strong><a href="http://kdinsurancegroup.com/">KD Insurance Group</a></strong>!</span><br />\n
LOCATION:Coppertop at Cherokee Hills
UID:e.160.1645
SEQUENCE:3
DTSTAMP:20260423T114045Z
URL:https://members.nmccalliance.com/events/details/membership-meeting-october-2011-10-26-2011-1645
END:VEVENT

END:VCALENDAR
