BEGIN:VCALENDAR
VERSION:2.0
PRODID:-//ChamberMaster//Event Calendar 2.0//EN
METHOD:PUBLISH
X-PUBLISHED-TTL:P3D
REFRESH-INTERVAL:P3D
CALSCALE:GREGORIAN
BEGIN:VEVENT
DTSTART:20121017T153000Z
DTEND:20121017T170000Z
X-MICROSOFT-CDO-ALLDAYEVENT:FALSE
SUMMARY:Membership Meeting - October 2012
DESCRIPTION:State of the Schools\n\n	Speaker: Mike Mayell\n\n	\n\n	Sponsors:\n\n	Midpoint Campus Center\n\n	Medina County Board of Developmental Disabilities
X-ALT-DESC;FMTTYPE=text/html:<div style="text-align: center\; ">\n	<br />\n	<span style="font-size:16px\;"><strong>State of the Schools</strong><br />\n	Speaker: Mike Mayell<br />\n	<br />\n	Sponsors:<br />\n	<a href="http://www.midpointcampus.com/">Midpoint Campus Center</a><br />\n	<a href="http://www.mcbmrdd.org/">Medina County Board of Developmental Disabilities</a></span></div>\n
LOCATION:Coppertop at Cherokee Hills
UID:e.160.1750
SEQUENCE:3
DTSTAMP:20260422T160456Z
URL:https://members.nmccalliance.com/events/details/membership-meeting-october-2012-10-17-2012-1750
END:VEVENT

END:VCALENDAR
