BEGIN:VCALENDAR
VERSION:2.0
PRODID:-//ChamberMaster//Event Calendar 2.0//EN
METHOD:PUBLISH
X-PUBLISHED-TTL:P3D
REFRESH-INTERVAL:P3D
CALSCALE:GREGORIAN
BEGIN:VEVENT
DTSTART:20110921T113000Z
DTEND:20110921T130000Z
X-MICROSOFT-CDO-ALLDAYEVENT:FALSE
SUMMARY:Membership Meeting - September 2011
DESCRIPTION:Meeting will be held at the Brunswick Recreation Center and breakfast will be provided by Madd Chef's Bistro!\n\n\n\nMeeting Sponsor: FirstMerit Wealth Management Services and the Medina County Community Fund!\n\n\n\nTopic: How to build your business after the sale is complete - a guide to customer retention\n\n\n\nSpeaker: John Warfel of Action Coach
X-ALT-DESC;FMTTYPE=text/html:<span style="font-size: 14px">Meeting will be held at the Brunswick Recreation Center and breakfast will be provided by Madd Chef&#39\;s Bistro!</span><br />\n<br />\n<span style="font-size: 16px">Meeting Sponsor: <a href="https://www.firstmerit.com/wealth/index.aspx"><strong>FirstMerit Wealth Management Services</strong></a>&nbsp\;and the <strong><a href="http://www.mccfund.org/">Medina County Community Fund</a></strong>!<br />\n<br />\n<span style="font-size: 14px">Topic: How to build your business after the sale is complete - a guide to customer retention</span></span><br />\n<br />\n<span style="font-size: 14px">Speaker: John Warfel of Action Coach</span><br />\n<br />\n
LOCATION:Brunswick Recreation Center
UID:e.160.1638
SEQUENCE:3
DTSTAMP:20260423T132402Z
URL:https://members.nmccalliance.com/events/details/membership-meeting-september-2011-09-21-2011-1638
END:VEVENT

END:VCALENDAR
