BEGIN:VCALENDAR
VERSION:2.0
PRODID:-//ChamberMaster//Event Calendar 2.0//EN
METHOD:PUBLISH
X-PUBLISHED-TTL:P3D
REFRESH-INTERVAL:P3D
CALSCALE:GREGORIAN
BEGIN:VEVENT
DTSTART;VALUE=DATE:20120618
DTEND;VALUE=DATE:20120701
TRANSP:TRANSPARENT
X-MICROSOFT-CDO-ALLDAYEVENT:TRUE
SUMMARY:Memorial Fundraiser
DESCRIPTION:Corder's Jewelers\, located at 3841 Center Road\, will be having a Memorial Fundraiser for our Beloved Brunswick High Students.  This Fundraiser will go from June 18th through June 30th and be held at Corder's Jewelers.\n\n\n\n10% of all broken or unwanted scrap gold or silver jewelry\, that is bought from our customers\, will be donated to the Brunswick Memorial Fund for our beloved students.  You might not have had any extra cash to donate before but this will give you the opportunity  to show your kindness now.  Bring in your scrap jewelry and Corder's Jewelers will donate 10% of whatever the customer's gold value is.
X-ALT-DESC;FMTTYPE=text/html:Corder&#39\;s Jewelers\, located at 3841 Center Road\, will be having a Memorial Fundraiser for our Beloved Brunswick High Students.&nbsp\; This Fundraiser will go from June 18th through June 30th and be held at Corder&#39\;s Jewelers.<br />\n<br />\n10% of all broken or unwanted scrap gold or silver jewelry\, that is bought from our customers\, will be donated to the Brunswick Memorial Fund for our beloved students.&nbsp\; You might not have had any extra cash to donate before but this will give you the&nbsp\;opportunity &nbsp\;to show your kindness now.&nbsp\; Bring in your scrap jewelry and Corder&#39\;s Jewelers will donate 10% of whatever the customer&#39\;s gold value is.
LOCATION:3841 Center Road\, Brunswick Ohio 44212
UID:e.160.1756
SEQUENCE:3
DTSTAMP:20260422T223616Z
URL:https://members.nmccalliance.com/events/details/memorial-fundraiser-06-18-2012-1756
END:VEVENT

END:VCALENDAR
