BEGIN:VCALENDAR
VERSION:2.0
PRODID:-//ChamberMaster//Event Calendar 2.0//EN
METHOD:PUBLISH
X-PUBLISHED-TTL:P3D
REFRESH-INTERVAL:P3D
CALSCALE:GREGORIAN
BEGIN:VEVENT
DTSTART:20110119T123000Z
DTEND:20110119T140000Z
X-MICROSOFT-CDO-ALLDAYEVENT:FALSE
SUMMARY:Monthly Meeting - January 2011
DESCRIPTION:Join the Brunswick Area Chamber of Commerce for its January meeting.  The guest speakers will be representatives from the BACC Board of Directors and will address the State of the Chamber. \n\n\n\nA representative from ChamberMaster will also present on how to use FREE tools on the BACC website in order to maximize your Chamber membership.
X-ALT-DESC;FMTTYPE=text/html:Join the Brunswick Area Chamber of Commerce for its January meeting.&nbsp\; The guest speakers will be&nbsp\;representatives&nbsp\;from the BACC Board of Directors and will address the State of the Chamber.&nbsp\;<br />\n<br />\nA representative from ChamberMaster will also present on how to use FREE tools on the BACC website in order to maximize your Chamber membership.
LOCATION:Brunswick Recreation Center 3637 Center Rd. Brunswick\, OH 44212
UID:e.160.1305
SEQUENCE:3
DTSTAMP:20260424T020908Z
URL:https://members.nmccalliance.com/events/details/monthly-meeting-january-2011-01-19-2011-1305
END:VEVENT

END:VCALENDAR
