BEGIN:VCALENDAR
VERSION:2.0
PRODID:-//ChamberMaster//Event Calendar 2.0//EN
METHOD:PUBLISH
X-PUBLISHED-TTL:P3D
REFRESH-INTERVAL:P3D
CALSCALE:GREGORIAN
BEGIN:VEVENT
DTSTART:20090218T163000Z
DTEND:20090218T180000Z
X-MICROSOFT-CDO-ALLDAYEVENT:FALSE
SUMMARY:Monthly Networking Luncheon
DESCRIPTION:Jeffrey Nischwitz will be speaking on Networking on Purpose!Relationship Strategies to Grow Your Business. We look forward to welcoming our newest members! Networking time included - bring your business cards! Lunch will be served buffet style This meeting is sponsored by  Plum Creek A Senior Assisted Living Community
X-ALT-DESC;FMTTYPE=text/html:<div align="center"><div align="center">&nbsp\;</div></div><div align="center"><font size="4">Jeffrey Nischwitz will be speaking on</font></div><div align="center"><font size="4">&nbsp\;Networking on Purpose!</font></div><div align="center"><font size="4">Relationship Strategies to Grow Your Business.</font></div><div align="center">&nbsp\;</div><div align="center"><font size="4">We look forward to welcoming our newest members!</font></div><div align="center">&nbsp\;</div><div align="center"><div align="center"><font size="4">Networking time included - bring your business cards!</font></div><div align="center">&nbsp\;</div><div align="center"><font size="4">Lunch will be served buffet style</font></div></div><div align="center">&nbsp\;</div><div align="center"><font size="4"><font style="background-color: #ffffff">This</font> meeting is sponsored by </font></div><div align="center">&nbsp\;</div><div align="center"><font size="4"><font color="#ff0000"><strong><em>Plum Creek </em></strong></font></font></div><div align="center"><font size="4"><font color="#ff0000"><strong><em>A Senior Assisted Living Community</em></strong></font></font></div>
LOCATION:New Location this month:Williams on the Lake787 Lafayette RoadMedina\, OH 44256
UID:e.160.740
SEQUENCE:3
DTSTAMP:20260426T021350Z
URL:https://members.nmccalliance.com/events/details/monthly-networking-luncheon-02-18-2009-740
END:VEVENT

END:VCALENDAR
