BEGIN:VCALENDAR
VERSION:2.0
PRODID:-//ChamberMaster//Event Calendar 2.0//EN
METHOD:PUBLISH
X-PUBLISHED-TTL:P3D
REFRESH-INTERVAL:P3D
CALSCALE:GREGORIAN
BEGIN:VEVENT
DTSTART:20090415T153000Z
DTEND:20090415T170000Z
X-MICROSOFT-CDO-ALLDAYEVENT:FALSE
SUMMARY:Monthly Networking Luncheon
DESCRIPTION:Our speaker\, Pete Keverfrom GHI Internet Services will presentInternet Marketing and how it can be usedeffectively in a tough economy:search engine optimization\, pay per click advertising\, email marketing and social media marketing  We look forward to welcoming our newest members! Networking time included - bring your business cards! Lunch to be announced.Vegetarian upon request. This meeting is sponsored by Edward Jones - Claus Meyer and Electrical Fire and Data Systems
X-ALT-DESC;FMTTYPE=text/html:<div align="center">&nbsp\;</div><div align="center"><font size="4">Our speaker\,&nbsp\;Pete Kever</font></div><div align="center"><font size="4">from GHI Internet Services will present</font></div><div align="center"><font size="4">Internet Marketing and how it can be used</font></div><div align="center"><font size="4">effectively in a tough economy:</font></div><div align="center"><font size="4">search engine optimization\, pay per click advertising\, email marketing and social media marketing </font></div><div align="center">&nbsp\;</div><div align="center"><font size="4">We look forward to welcoming our newest members!</font></div><div align="center">&nbsp\;</div><div align="center"><div align="center"><font size="4">Networking time included - bring your business cards!</font></div><div align="center">&nbsp\;</div><div align="center"><font size="4">Lunch to be announced.</font></div><div align="center"><font size="2">Vegetarian upon request.</font></div></div><div align="center">&nbsp\;</div><div align="center"><font size="4"><font style="background-color: #ffffff">This</font> meeting is sponsored by</font></div><div align="center"><font size="4">&nbsp\;</font><font color="#ff0000"><strong><em><div align="center"><font size="4">Edward Jones - Claus Meyer&nbsp\;</font></div><div align="center"><font size="4">and&nbsp\;</font></div><div align="center"><font size="4">Electrical Fire and Data Systems</font></div></em></strong></font></div><div align="center">&nbsp\;</div><div align="center">&nbsp\;</div>
LOCATION:Mapleside Restaurant294 Pearl RoadBrunswick\, OH
UID:e.160.755
SEQUENCE:3
DTSTAMP:20260425T231827Z
URL:https://members.nmccalliance.com/events/details/monthly-networking-luncheon-04-15-2009-755
END:VEVENT

END:VCALENDAR
