BEGIN:VCALENDAR
VERSION:2.0
PRODID:-//ChamberMaster//Event Calendar 2.0//EN
METHOD:PUBLISH
X-PUBLISHED-TTL:P3D
REFRESH-INTERVAL:P3D
CALSCALE:GREGORIAN
BEGIN:VEVENT
DTSTART:20090819T153000Z
DTEND:20090819T170000Z
X-MICROSOFT-CDO-ALLDAYEVENT:FALSE
SUMMARY:Monthly Networking Luncheon
DESCRIPTION:Join us Monthly Networking LuncheonWednesday\, August 19\, 200911:30 am to 1:00 pmat The Susan L. Hambley Nature Center1473 Parschen Blvd\, Brunswick Lunch will be catererd by The Winking Lizard Tavern Thank you to our sponsors: Scott's Party Rental and  Sales Ace Our Speaker will be Andy Hudak\, Park Naturalist.  He will be introducing us to the nature center\, park activities & answering questions. We look forward to welcoming our newest members!Networking time included - bring your business cards!
X-ALT-DESC;FMTTYPE=text/html:<div align="center"><div align="center"><span style="font-family: Tahoma">&nbsp\;</span><span style="font-size: medium"><span style="font-family: Tahoma">Join us </span></span></div><div align="center"><span style="font-size: medium"><span style="font-family: Tahoma">Monthly Networking Luncheon</span></span></div><div align="center"><span style="font-size: medium"><span style="font-family: Tahoma">Wednesday\, August 19\, 2009</span></span></div><div align="center"><span style="font-size: medium"><span style="font-family: Tahoma">11:30 am to 1:00 pm</span></span></div><div align="center"><span style="font-size: medium"><span style="font-family: Tahoma">at </span></span></div><div align="center"><span style="font-size: medium"><span style="font-family: Tahoma">The Susan L. Hambley Nature Center</span></span></div><div align="center"><span style="font-size: medium"><span style="font-family: Tahoma">1473 Parschen Blvd\, Brunswick</span></span></div><div align="center">&nbsp\;</div><div align="center"><span style="font-size: medium"><span style="font-family: Tahoma">Lunch will be catererd by </span></span></div><div align="center"><span style="font-size: medium"><span style="font-family: Tahoma">The Winking Lizard Tavern</span></span></div><div align="center">&nbsp\;</div><div align="center"><span style="font-size: medium"><span style="font-family: Tahoma">Thank you to our sponsors:</span></span></div><div align="center">&nbsp\;</div><div align="center"><span style="font-size: medium"><span style="font-family: Tahoma">Scott&rsquo\;s Party Rental</span></span></div><div align="center">&nbsp\;</div><div align="center"><span style="font-size: medium"><span style="font-family: Tahoma">and </span></span></div><div align="center">&nbsp\;</div><div align="center"><span style="font-size: medium"><span style="font-family: Tahoma">Sales Ace</span></span></div><div align="center">&nbsp\;</div><div align="center"><span style="font-size: medium">Our Speaker will be Andy Hudak\, Park Naturalist.&nbsp\;</span></div><div align="center"><span style="font-size: medium"> He will be introducing us to the nature center\, park activities &amp\; answering questions.</span></div><div align="center">&nbsp\;</div></div><div align="center"><font size="4">We look forward to welcoming our newest members!</font></div><div align="center"><div align="center"><font size="4">Networking time included - bring your business cards!</font></div><div align="center">&nbsp\;</div></div>
LOCATION:Susan L. Hambley Nature Center1473 Parschen Blvd (Off Center Road)Brunswick\, OH 44212
UID:e.160.769
SEQUENCE:3
DTSTAMP:20260425T171803Z
URL:https://members.nmccalliance.com/events/details/monthly-networking-luncheon-08-19-2009-769
END:VEVENT

END:VCALENDAR
