BEGIN:VCALENDAR
VERSION:2.0
PRODID:-//ChamberMaster//Event Calendar 2.0//EN
METHOD:PUBLISH
X-PUBLISHED-TTL:P3D
REFRESH-INTERVAL:P3D
CALSCALE:GREGORIAN
BEGIN:VEVENT
DTSTART:20091021T153000Z
DTEND:20091021T170000Z
X-MICROSOFT-CDO-ALLDAYEVENT:FALSE
SUMMARY:Monthly Networking Luncheon
DESCRIPTION:The Brunswick Area Chamber of Commerceinvites you  to join us for our  Networking Luncheon MeetingWednesday\, October 21\, 200911:30 am to 1:00 pmat Williams on the Lake787 Lafayette Road\, Medina Carrie Haughawout from the Ohio Chamber of Commercewill be speaking on the Health Care Reform Act  We will be enjoying a buffet lunch of Italian Sausage\, Pasta w/Marinara Sauce\, Seasonal Vegetable\, Potato Du jour and Salad w/rolls & butter  This meeting is sponsored by Buehler's Fresh Foodsand HealthSource Chiropractic & Physical Therapy
X-ALT-DESC;FMTTYPE=text/html:<div align="center"><div align="center"><span style="font-size: small">&nbsp\;</span><strong><span style="font-size: small">The Brunswick Area Chamber of Commerce</span></strong></div><div align="center"><strong><span style="font-size: small">invites you&nbsp\; to join us for our </span></strong></div><div align="center">&nbsp\;</div><div align="center"><strong><span style="font-size: small">Networking Luncheon Meeting</span></strong></div><div align="center"><strong><span style="font-size: small">Wednesday\, October 21\, 2009</span></strong></div><div align="center"><strong><span style="font-size: small">11:30 am to 1:00 pm</span></strong></div><div align="center"><strong><span style="font-size: small">at </span></strong></div><div align="center"><strong><span style="font-size: small">Williams on the Lake</span></strong></div><div align="center"><strong><span style="font-size: small">787 Lafayette Road\, Medina</span></strong></div><div align="center">&nbsp\;</div><div align="center"><strong><span style="font-size: small">Carrie Haughawout from the Ohio Chamber of Commerce</span></strong></div><div align="center"><strong><span style="font-size: small">will be speaking on the Health Care Reform Act </span></strong></div><div align="center">&nbsp\;</div><div align="center"><strong><span style="font-size: small">We will be enjoying a buffet lunch of </span></strong></div><div align="center"><strong><span style="font-size: small">Italian Sausage\, Pasta w/Marinara Sauce\, Seasonal Vegetable\, </span></strong></div><div align="center"><strong><span style="font-size: small">Potato Du jour and&nbsp\;Salad w/rolls &amp\; butter</span></strong></div><div align="center">&nbsp\;</div></div><div align="center"><span style="font-size: small"><strong>&nbsp\;</strong><strong><font style="background-color: #ffffff">This</font> meeting is sponsored by </strong></span></div><p style="text-align: center"><span style="font-size: small"><strong>Buehler&rsquo\;s Fresh Foods</strong></span></p><p style="text-align: center"><span style="font-size: small"><strong>and </strong></span></p><p style="text-align: center"><span style="font-size: small"><strong>HealthSource Chiropractic &amp\; Physical Therapy</strong></span></p><div>&nbsp\;</div>
LOCATION:Williams on the Lake787 Lafayette RoadMedina\, OH 44256
UID:e.160.778
SEQUENCE:3
DTSTAMP:20260425T140803Z
URL:https://members.nmccalliance.com/events/details/monthly-networking-luncheon-10-21-2009-778
END:VEVENT

END:VCALENDAR
