BEGIN:VCALENDAR
VERSION:2.0
PRODID:-//ChamberMaster//Event Calendar 2.0//EN
METHOD:PUBLISH
X-PUBLISHED-TTL:P3D
REFRESH-INTERVAL:P3D
CALSCALE:GREGORIAN
BEGIN:VEVENT
DTSTART:20090318T113000Z
DTEND:20090318T130000Z
X-MICROSOFT-CDO-ALLDAYEVENT:FALSE
SUMMARY:Networking Member Breakfast
DESCRIPTION:Member Networking Breakfast We look forward to welcoming our newest members! Networking time included - bring your business cards! We will be enjoying a buffet breakfast provided by  Taste of Excellence  This meeting is sponsored by  First Federal of Lakewoodand Sales Ace
X-ALT-DESC;FMTTYPE=text/html:<div align="center"><div align="center"><font color="#0000ff" size="5">Member Networking Breakfast</font></div></div><div align="center">&nbsp\;</div><div align="center"><font size="4">We look forward to welcoming our newest members!</font></div><div align="center">&nbsp\;</div><div align="center"><div align="center"><font size="4">Networking time included - bring your business cards!</font></div><div align="center">&nbsp\;</div><div align="center"><font size="4">We will be enjoying a buffet breakfast provided by&nbsp\;</font></div><div align="center">&nbsp\;</div><div align="center"><font size="4">Taste of Excellence</font>&nbsp\;</div><div align="center">&nbsp\;</div></div><div align="center"><font size="4"><font style="background-color: #ffffff">This</font> meeting is sponsored by&nbsp\;</font></div><div align="center">&nbsp\;</div><div align="center"><font size="4">First Federal of Lakewood</font></div><div align="center"><font size="4">and </font></div><div align="center"><font size="4">Sales Ace</font></div><div align="center">&nbsp\;</div><div align="center"><div align="center">&nbsp\;</div>&nbsp\;</div><div align="center">&nbsp\;</div><div align="center">&nbsp\;</div><div align="center">&nbsp\;</div>
LOCATION:Brunswick Recreation & Fitness Center3637 Center RoadBrunswick\, OH 44212
UID:e.160.749
SEQUENCE:3
DTSTAMP:20260426T003604Z
URL:https://members.nmccalliance.com/events/details/networking-member-breakfast-03-18-2009-749
END:VEVENT

END:VCALENDAR
