BEGIN:VCALENDAR
VERSION:2.0
PRODID:-//ChamberMaster//Event Calendar 2.0//EN
METHOD:PUBLISH
X-PUBLISHED-TTL:P3D
REFRESH-INTERVAL:P3D
CALSCALE:GREGORIAN
BEGIN:VEVENT
DTSTART:20090520T113000Z
DTEND:20090520T130000Z
X-MICROSOFT-CDO-ALLDAYEVENT:FALSE
SUMMARY:Networking Member Breakfast
DESCRIPTION:Member Networking Breakfast We look forward to welcoming our newest members! Networking time included - bring your business cards!    We will be enjoying a buffet breakfast by Madd Chef's Bistro & Cafe This meeting is sponsored by  Buehler's Fresh FoodsandKGC Computers
X-ALT-DESC;FMTTYPE=text/html:<div align="center"><div align="center"><font color="#0000ff" size="5">Member Networking Breakfast</font></div></div><div align="center">&nbsp\;</div><div align="center"><font size="4">We look forward to welcoming our newest members!</font></div><div align="center">&nbsp\;</div><div align="center"><div align="center"><font size="4">Networking time included - bring your business cards!</font></div><div align="center">&nbsp\;</div><div align="center">&nbsp\;&nbsp\;&nbsp\;</div><div align="center"><font size="4">We will be enjoying a buffet breakfast by</font></div><div align="center"><font size="4">&nbsp\;Madd Chef&rsquo\;s Bistro &amp\; Cafe</font></div></div><div align="center">&nbsp\;</div><div align="center"><font size="4"><font style="background-color: #ffffff">This</font> meeting is sponsored by </font></div><div align="center">&nbsp\;</div><div align="center"><font color="#0000ff" size="4">Buehler's Fresh Foods</font></div><div align="center"><font size="2">and</font></div><div align="center"><font color="#0000ff" size="4">KGC Computers</font></div><div align="center">&nbsp\;</div><div align="center">&nbsp\;</div>
LOCATION:Brunswick Recreation & Fitness Center3637 Center RoadBrunswick\, OH 44212
UID:e.160.760
SEQUENCE:3
DTSTAMP:20260425T214148Z
URL:https://members.nmccalliance.com/events/details/networking-member-breakfast-05-20-2009-760
END:VEVENT

END:VCALENDAR
