BEGIN:VCALENDAR
VERSION:2.0
PRODID:-//ChamberMaster//Event Calendar 2.0//EN
METHOD:PUBLISH
X-PUBLISHED-TTL:P3D
REFRESH-INTERVAL:P3D
CALSCALE:GREGORIAN
BEGIN:VEVENT
DTSTART:20090715T113000Z
DTEND:20090715T130000Z
X-MICROSOFT-CDO-ALLDAYEVENT:FALSE
SUMMARY:Networking Member Breakfast
DESCRIPTION:Member Networking Breakfast Wednesday\, July 15\, 20097:30 to 9:00 am   at the Brunswick Community Recreation and Fitness Center Networking time included - bring your business cards!  We will be enjoying a buffet breakfast byMadd Chef's Bistro & Cafe Betheny Dentler\, Executive Director of the Medina County Economic Development Corporation will be speaking on the topic: Economic Development 101 - How your city/county/state department can help your business. Please join us as we honor Jim Hayas for his 30 years of dedicated service to the Brunswick City Schools and the City of Brunswick.   This meeting sponsored by:KIKS OfficeandThe Plain Dealer Publishing Company
X-ALT-DESC;FMTTYPE=text/html:<div align="center"><div align="center"><font color="#0000ff" size="5">Member Networking Breakfast</font></div><div align="center">&nbsp\;</div><div align="center"><font color="#0000ff" size="5">Wednesday\, July 15\, 2009</font></div><div align="center"><font color="#0000ff" size="5">7:30 to 9:00 am </font></div><div align="center">&nbsp\;</div></div><div align="center">&nbsp\;</div><div align="center"><div align="center"><font size="4">at the Brunswick Community Recreation and Fitness Center</font></div><div align="center">&nbsp\;</div><div align="center"><font size="4">Networking time included - bring your business cards!</font></div><div align="center">&nbsp\;</div><div align="center">&nbsp\;</div><div align="center"><font size="4">We will be enjoying a buffet breakfast by</font></div><div align="center"><span style="color: #339966"><span><font size="4">Madd Chef&rsquo\;s Bistro &amp\; Cafe</font></span></span></div></div><div align="center">&nbsp\;</div><div align="center"><font size="4"><font style="background-color: #ffffff">Betheny Dentler\, Executive Director of the Medina County Economic Development Corporation will be speaking on the topic: Economic Development 101 - How your city/county/state department can help your business.</font></font></div><div align="center">&nbsp\;</div><div align="center"><span style="color: #0000ff"><font size="4"><font style="background-color: #ffffff">Please join us as we honor Jim Hayas for his 30 years of dedicated service to the Brunswick City Schools and the City of Brunswick.</font></font></span></div><div>&nbsp\;</div><div align="center"><font size="4"><font style="background-color: #ffffff"><div><samp><span lang="en-US" style="language: en-US">&nbsp\;</span></samp><span lang="en-US" style="language: en-US"><o:p></o:p></span></div></font></font></div><div>&nbsp\;</div><div style="text-align: center"><span style="color: #ff0000"><font size="4"><font style="background-color: #ffffff">This meeting sponsored by:</font></font></span></div><div style="text-align: center"><span style="color: #ff0000"><font size="4"><font style="background-color: #ffffff">KIKS Office</font></font></span></div><div style="text-align: center"><span style="color: #ff0000"><font size="4"><font style="background-color: #ffffff">and</font></font></span></div><div style="text-align: center"><span style="color: #ff0000"><font size="4"><font style="background-color: #ffffff">The Plain Dealer Publishing Company</font></font></span></div><div>&nbsp\;</div><div>&nbsp\;</div>
LOCATION:Brunswick Community Recreation & Fitness Center3637 Center RoadBrunswick\, OH 44212
UID:e.160.767
SEQUENCE:3
DTSTAMP:20260425T200752Z
URL:https://members.nmccalliance.com/events/details/networking-member-breakfast-07-15-2009-767
END:VEVENT

END:VCALENDAR
