BEGIN:VCALENDAR
VERSION:2.0
PRODID:-//ChamberMaster//Event Calendar 2.0//EN
METHOD:PUBLISH
X-PUBLISHED-TTL:P3D
REFRESH-INTERVAL:P3D
CALSCALE:GREGORIAN
BEGIN:VEVENT
DTSTART:20090916T113000Z
DTEND:20090916T130000Z
X-MICROSOFT-CDO-ALLDAYEVENT:FALSE
SUMMARY:Networking Member Breakfast
DESCRIPTION:Member Networking Breakfast We look forward to welcoming our newest members!Networking time included - bring your business cards! Our Speaker will be Superintendent Michael Mayell.State of the Schools   We will be enjoying a buffet breakfast by Madd Chef's Bistro & Cafe This meeting is sponsored by  Paul Davis Restoration andEdward Jones - Claus Meyer
X-ALT-DESC;FMTTYPE=text/html:<div align="center"><div align="center"><font color="#0000ff" size="5">Member Networking Breakfast</font></div></div><div align="center">&nbsp\;</div><div align="center"><font size="4">We look forward to welcoming our newest members!</font></div><div align="center"><div align="center"><font size="4">Networking time included - bring your business cards!</font></div><div align="center">&nbsp\;</div><div align="center"><font size="4">Our Speaker will be Superintendent Michael Mayell.</font></div><div align="center"><font size="4">State of the Schools</font></div><div align="center">&nbsp\;</div><div align="center">&nbsp\;</div><div align="center">&nbsp\;</div><div align="center"><font size="4">We will be enjoying a buffet breakfast by</font></div><div align="center"><font size="4">&nbsp\;Madd Chef&rsquo\;s Bistro &amp\; Cafe</font></div></div><div align="center">&nbsp\;</div><div align="center"><font size="4"><font style="background-color: #ffffff">This</font> meeting is sponsored by&nbsp\;</font></div><div align="center">&nbsp\;</div><div align="center"><font size="4">Paul Davis Restoration</font>&nbsp\;</div><div align="center">and</div><div align="center"><span style="font-size: medium">Edward Jones - Claus Meyer</span></div>
LOCATION:Brunswick Recreation & Fitness Center3637 Center RoadBrunswick\, OH 44212
UID:e.160.773
SEQUENCE:3
DTSTAMP:20260425T154111Z
URL:https://members.nmccalliance.com/events/details/networking-member-breakfast-09-16-2009-773
END:VEVENT

END:VCALENDAR
