BEGIN:VCALENDAR
VERSION:2.0
PRODID:-//ChamberMaster//Event Calendar 2.0//EN
METHOD:PUBLISH
X-PUBLISHED-TTL:P3D
REFRESH-INTERVAL:P3D
CALSCALE:GREGORIAN
BEGIN:VEVENT
DTSTART:20091118T123000Z
DTEND:20091118T140000Z
X-MICROSOFT-CDO-ALLDAYEVENT:FALSE
SUMMARY:Networking Member Breakfast
DESCRIPTION:Member Networking Breakfast We look forward to welcoming our newest members!Networking time included - bring your business cards!    We will be enjoying a buffet breakfast by Madd Chef's Bistro & Cafe This meeting is sponsored by TBA.
X-ALT-DESC;FMTTYPE=text/html:<div align="center"><div align="center"><font color="#0000ff" size="5">Member Networking Breakfast</font></div></div><div align="center">&nbsp\;</div><div align="center"><font size="4">We look forward to welcoming our newest members!</font></div><div align="center"><div align="center"><font size="4">Networking time included - bring your business cards!</font></div><div align="center">&nbsp\;</div><div align="center">&nbsp\;</div><div align="center">&nbsp\;</div><div align="center">&nbsp\;</div><div align="center"><font size="4">We will be enjoying a buffet breakfast by Madd Chef&rsquo\;s Bistro &amp\; Cafe</font></div></div><div align="center">&nbsp\;</div><div align="center"><font size="4"><font style="background-color: #ffffff">This</font> meeting is sponsored by <font color="#ff0000"><strong><em>TBA</em></strong><strong><em>.</em></strong></font></font></div><div align="center">&nbsp\;</div>
LOCATION:Brunswick Recreation & Fitness Center3637 Center RoadBrunswick\, OH 44212
UID:e.160.782
SEQUENCE:3
DTSTAMP:20260425T121653Z
URL:https://members.nmccalliance.com/events/details/networking-member-breakfast-11-18-2009-782
END:VEVENT

END:VCALENDAR
