BEGIN:VCALENDAR
VERSION:2.0
PRODID:-//ChamberMaster//Event Calendar 2.0//EN
METHOD:PUBLISH
X-PUBLISHED-TTL:P3D
REFRESH-INTERVAL:P3D
CALSCALE:GREGORIAN
BEGIN:VEVENT
DTSTART:20111006T213000Z
DTEND:20111006T230000Z
X-MICROSOFT-CDO-ALLDAYEVENT:FALSE
SUMMARY:New Member After Hours
DESCRIPTION:
X-ALT-DESC;FMTTYPE=text/html:
LOCATION:
UID:e.160.1640
SEQUENCE:3
DTSTAMP:20260423T113841Z
URL:https://members.nmccalliance.com/events/details/new-member-after-hours-10-06-2011-1640
END:VEVENT

END:VCALENDAR
