BEGIN:VCALENDAR
VERSION:2.0
PRODID:-//ChamberMaster//Event Calendar 2.0//EN
METHOD:PUBLISH
X-PUBLISHED-TTL:P3D
REFRESH-INTERVAL:P3D
CALSCALE:GREGORIAN
BEGIN:VEVENT
DTSTART:20120705T130000Z
DTEND:20120705T140000Z
X-MICROSOFT-CDO-ALLDAYEVENT:FALSE
SUMMARY:New Member Coffee - July 2012
DESCRIPTION:This event is by invitation only and is designed to introduce new Chamber members to one another\, as well as to the get to know the members of the Ambassadors Committee.
X-ALT-DESC;FMTTYPE=text/html:<p>\n	This event is by invitation only and is designed to introduce new Chamber members to one another\, as well as to the get to know the members of the Ambassadors Committee.</p>\n
LOCATION:Kelly's Cafe
UID:e.160.1736
SEQUENCE:3
DTSTAMP:20260422T223914Z
URL:https://members.nmccalliance.com/events/details/new-member-coffee-july-2012-07-05-2012-1736
END:VEVENT

END:VCALENDAR
