BEGIN:VCALENDAR
VERSION:2.0
PRODID:-//ChamberMaster//Event Calendar 2.0//EN
METHOD:PUBLISH
X-PUBLISHED-TTL:P3D
REFRESH-INTERVAL:P3D
CALSCALE:GREGORIAN
BEGIN:VEVENT
DTSTART:20260409T210000Z
DTEND:20260409T230000Z
X-MICROSOFT-CDO-ALLDAYEVENT:FALSE
SUMMARY:NMCCA After Hours: Member Benefit Info Night
DESCRIPTION:
X-ALT-DESC;FMTTYPE=text/html:
LOCATION:Back Nine Golf
UID:e.160.3597
SEQUENCE:3
DTSTAMP:20260420T084844Z
URL:https://members.nmccalliance.com/events/details/nmcca-after-hours-member-benefit-info-night-3597
END:VEVENT

END:VCALENDAR
