BEGIN:VCALENDAR
VERSION:2.0
PRODID:-//ChamberMaster//Event Calendar 2.0//EN
METHOD:PUBLISH
X-PUBLISHED-TTL:P3D
REFRESH-INTERVAL:P3D
CALSCALE:GREGORIAN
BEGIN:VEVENT
DTSTART:20210721T200000Z
DTEND:20210722T000000Z
X-MICROSOFT-CDO-ALLDAYEVENT:FALSE
SUMMARY:NMCCA After Hours Social
DESCRIPTION:Don't miss NMCCA After Hours Social hosted at Winking Lizard on Wednesday\, July 21st\, 2021. \n\n\n \n\n\n\nJoin us for our after hours event to welcome our new members\, network with each other and see what benefits the NMCCA has to offer. \n\nFrom 4 PM to 5 PM\, Medina County Park District\, Executive Director Nate Eppink will give us a walking tour by Brunswick Lake and will be updating us on projects happening in Brunswick.  We will be meeting at the Susan B. Hambley Nature Center at Brunswick Lake (parking available by Winking Lizard). Our social will continue from 5-8 PM at Winking Lizard for networking and fun.  Appetizers sponsored by Winking Lizard with Cash Bar. Please remember to bring your business card for some drawings.\n\n\n\nMark Herwick\, President at Homestead Insurance will be speaking at Winking Lizard concerning health benefits.\n\n\n\nHope to see you there - please register for the event.  When registering\, please indicate if you will be joining us for the tour. Space is limited.
X-ALT-DESC;FMTTYPE=text/html:&nbsp\;\n<div align="center" style="font-family: Arial\, Helvetica\, sans-serif\; font-size: 13.3333px\; background-color: rgb(255\, 255\, 255)\; color: rgb(51\, 102\, 255)\; text-align: center\;"><span style="color:#008000\;"><span style="font-size: 16pt\; text-align: left\;"><strong>Don&#39\;t miss NMCCA&nbsp\;After Hours Social hosted at Winking Lizard on Wednesday\, July&nbsp\;21st\, 2021.&nbsp\;</strong></span></span></div>\n\n<div align="left" style="font-family: Arial\, Helvetica\, sans-serif\; font-size: 13.3333px\; background-color: rgb(255\, 255\, 255)\;">\n<div align="center" style="max-height: none\; z-index: auto\; table-layout: auto\; font-size: 16pt\; font-variant-east-asian: inherit\; min-height: initial\; box-sizing: content-box\; float: none\; content: normal\; overflow-wrap: inherit\; margin-left: 0px\; border-radius: 0px\; box-shadow: none\; overflow: visible\; inset: auto\; word-break: inherit\; font-variant-numeric: inherit\; border-collapse: separate\; direction: inherit\; height: auto\; text-align: center\; border: none\; padding: 0px\; visibility: inherit\; empty-cells: show\; vertical-align: baseline\; clear: none\; line-height: inherit\; outline-offset: 0px\; font-stretch: inherit\; text-overflow: clip\; margin-right: 0px\; max-width: none\; background-image: none\; background-position: initial\; background-size: initial\; background-repeat: initial\; background-attachment: initial\; background-origin: initial\; background-clip: initial\; width: auto\; resize: none\; opacity: 1\; min-width: initial\;">&nbsp\;</div>\n\n<div align="center" style="max-height: none\; z-index: auto\; table-layout: auto\; font-size: 16pt\; font-variant-east-asian: inherit\; min-height: initial\; box-sizing: content-box\; float: none\; content: normal\; overflow-wrap: inherit\; margin-left: 0px\; border-radius: 0px\; box-shadow: none\; overflow: visible\; inset: auto\; word-break: inherit\; font-variant-numeric: inherit\; border-collapse: separate\; direction: inherit\; height: auto\; text-align: center\; border: none\; padding: 0px\; visibility: inherit\; empty-cells: show\; vertical-align: baseline\; clear: none\; line-height: inherit\; outline-offset: 0px\; font-stretch: inherit\; text-overflow: clip\; margin-right: 0px\; max-width: none\; background-image: none\; background-position: initial\; background-size: initial\; background-repeat: initial\; background-attachment: initial\; background-origin: initial\; background-clip: initial\; width: auto\; resize: none\; opacity: 1\; min-width: initial\;">\n<div align="justify" class="xxmsonormal" style="font-size: 16pt\; text-align: justify\;">\n<div style="font-size: 16pt\;"><span style="font-size: 16pt\;">Join us for our after hours event to welcome our new members\, network with each other and see what benefits the NMCCA has to offer.&nbsp\;<br />\nFrom 4 PM to 5 PM\,&nbsp\;Medina County Park District\, Executive Director Nate Eppink will give us a walking tour by Brunswick Lake and will be updating us on projects happening in Brunswick.&nbsp\; <strong>We will be meeting at the <a href="https://www.medinacountyparks.com/index.php/parks/susan-hambley-nature-center-at-brunswick-lake">Susan B. Hambley&nbsp\;Nature Center </a>at Brunswick Lake (parking available by Winking Lizard).</strong> Our social will continue from 5-8 PM at Winking Lizard for networking and fun.&nbsp\; Appetizers sponsored by Winking Lizard with&nbsp\;Cash Bar.</span><span style="color: rgb(51\, 51\, 51)\; font-family: Arial\, Verdana\, Helvetica\, sans-serif\; font-size: 22px\; text-align: justify\; background-color: rgb(255\, 255\, 255)\;">&nbsp\;</span><span style="margin: 0px\; padding: 0px\; border: 0px\; font-variant-numeric: inherit\; font-variant-east-asian: inherit\; font-stretch: inherit\; font-size: 22px\; line-height: inherit\; font-family: Arial\, Verdana\, Helvetica\, sans-serif\; vertical-align: baseline\; color: rgb(191\, 63\, 47)\; text-align: justify\; background-color: rgb(255\, 255\, 255)\;">Please remember to bring your business card for some drawings</span><span style="margin: 0px\; padding: 0px\; border: 0px\; font-variant-numeric: inherit\; font-variant-east-asian: inherit\; font-stretch: inherit\; font-size: 22px\; line-height: inherit\; font-family: Arial\, Verdana\, Helvetica\, sans-serif\; vertical-align: baseline\; color: rgb(51\, 51\, 51)\; text-align: justify\; background-color: rgb(255\, 255\, 255)\;">.</span><br />\n<br />\n<span style="font-size: 16pt\;">Mark Herwick\, President at Homestead Insurance will be speaking at Winking Lizard concerning health benefits.<br />\n<br />\nHope to see you there - please register for the event.&nbsp\; </span><span style="color: rgb(51\, 51\, 51)\; font-family: Arial\, Verdana\, Helvetica\, sans-serif\; font-size: 22px\; text-align: justify\; background-color: rgb(255\, 255\, 255)\;">When registering\, please indicate if you will be joining us for the tour.</span><span style="font-size: 16pt\;">&nbsp\;Space is limited.</span></div>\n\n<div><span style="font-size: 16pt\;"><strong style="color: rgb(51\, 102\, 255)\; font-size: 16pt\; text-align: center\;">&nbsp\;</strong></span></div>\n</div>\n</div>\n\n<div align="center">\n<div align="center" style="font-size: 16pt\; margin-top: 0px\; margin-bottom: 0px\;"><font color="#008000"><b>&nbsp\;</b></font></div>\n</div>\n</div>\n
LOCATION:Winking Lizard 3634 Center Rd. Brunswick\, OH 44212
UID:e.160.2868
SEQUENCE:3
DTSTAMP:20260420T014607Z
URL:https://members.nmccalliance.com/events/details/nmcca-after-hours-social-2868
END:VEVENT

END:VCALENDAR
