BEGIN:VCALENDAR
VERSION:2.0
PRODID:-//ChamberMaster//Event Calendar 2.0//EN
METHOD:PUBLISH
X-PUBLISHED-TTL:P3D
REFRESH-INTERVAL:P3D
CALSCALE:GREGORIAN
BEGIN:VEVENT
DTSTART:20220406T155000Z
DTEND:20220406T170000Z
X-MICROSOFT-CDO-ALLDAYEVENT:FALSE
SUMMARY:NMCCA Chamber Chomps - Center Café - Medina County Career Center
DESCRIPTION:**Please register for this event by April 4th as the Center Caf   would like to prepare for our visit.**\n\n\n\nOur Chamber Chomps featured restaurant is the Center Caf  at the Medina County Career Center located in Medina (as announced on the Northern Medina County Chamber Alliance's Facebook and LinkedIn pages).\n\n \n\nPlease join Debbie and Charlene at noon at:\n\n \n\n1101 W. Liberty St.\n\nMedina\, Ohio\n\n \n\nOn Wednesday\, April 6th they are open 10:30am to 1:00pm. \n\n \n\nPlease show your support for restaurants in our communities!\n\n \n\nSee you there!
X-ALT-DESC;FMTTYPE=text/html:<div style="margin: 0px\; padding: 0px\; border: 0px\; font-variant-numeric: inherit\; font-variant-east-asian: inherit\; font-stretch: inherit\; font-size: 14px\; line-height: inherit\; vertical-align: baseline\;"><strong style="color: rgb(51\, 51\, 51)\; font-family: Arial\, Verdana\, Helvetica\, sans-serif\; font-size: 18px\; background-color: rgb(255\, 255\, 255)\;">**Please register for this event by April 4th as the </strong><em style="color: rgb(51\, 51\, 51)\; font-family: sans-serif\, Arial\, Verdana\, &quot\;Trebuchet MS&quot\;\; font-size: 14px\; background-color: rgb(255\, 255\, 255)\;"><a href="https://mcjvs.edu/?page_id=252" style="color: rgb(7\, 130\, 193)\;"><span style="font-family: arial\;"><span style="font-size: 18px\;">Center Caf&eacute\;</span></span></a></em><span style="color: rgb(51\, 51\, 51)\; font-size: 14px\; background-color: rgb(255\, 255\, 255)\; font-family: arial\;"><span style="margin: 0px\; padding: 0px\; border: 0px\; font-style: inherit\; font-variant: inherit\; font-weight: inherit\; font-stretch: inherit\; line-height: inherit\; vertical-align: baseline\;">&nbsp\;</span></span><strong style="color: rgb(51\, 51\, 51)\; font-family: Arial\, Verdana\, Helvetica\, sans-serif\; font-size: 18px\; background-color: rgb(255\, 255\, 255)\;"> would like to prepare for our visit.**</strong><br />\n<br />\n<span style="margin: 0px\; padding: 0px\; border: 0px\; font-style: inherit\; font-variant: inherit\; font-weight: inherit\; font-stretch: inherit\; font-size: 18px\; line-height: inherit\; vertical-align: baseline\; color: rgb(51\, 51\, 51) !important\;">Our Chamber Chomps featured restaurant is the </span><em><a href="https://mcjvs.edu/?page_id=252"><span style="font-family:arial\;"><span style="font-size:18px\;">Center Caf&eacute\;</span></span></a></em><span style="font-family:arial\;"><span style="margin: 0px\; padding: 0px\; border: 0px\; font-style: inherit\; font-variant: inherit\; font-weight: inherit\; font-stretch: inherit\; line-height: inherit\; vertical-align: baseline\; color: rgb(51\, 51\, 51) !important\;">&nbsp\;</span></span><span style="margin: 0px\; padding: 0px\; border: 0px\; font-style: inherit\; font-variant: inherit\; font-weight: inherit\; font-stretch: inherit\; font-size: 18px\; line-height: inherit\; font-family: inherit\; vertical-align: baseline\; color: rgb(51\, 51\, 51) !important\;">at the Medina County Career Center located<em>&nbsp\;</em>in Medina&nbsp\;(as announced on the Northern Medina County Chamber Alliance&#39\;s&nbsp\;</span><a data-auth="NotApplicable" data-linkindex="3" href="https://r20.rs6.net/tn.jsp?f=001y-exzmLsxWtfdN1qUsriAvGcjyo-hVSdA_vAPxVwwpugj0oryNC87TFvSPde3B6CPeinsdaR2Y9pjgno4TUy_jkl21mRme4d7Q-wicI-oeVUIqiIoRxDhTrsO51kiALfEQxnhNdwQdmQFTr9yIlMp8sbMubAKluy5n2h9iIQ4cIavNF4LWyQ2katrq5Q2QYD&amp\;c=Po1PCcOY1jXyAvAjQzUNE3Mp2jPNSO4n6IfxRMhuJxyvlPTrWOSuFQ==&amp\;ch=v3lwogfjS07fU_6ctjy99rxYLE3JPgSiG1KQjsyl8fIC1HSLbePoEA==" rel="noopener noreferrer" style="color: rgb(51\, 51\, 51) !important\; margin: 0px\; padding: 0px\; border: 0px\; font-variant: inherit\; font-stretch: inherit\; font-size: 18px\; line-height: inherit\; font-family: inherit\; vertical-align: baseline\; text-decoration-line: none\;" target="_blank">Facebook</a><span style="margin: 0px\; padding: 0px\; border: 0px\; font-style: inherit\; font-variant: inherit\; font-weight: inherit\; font-stretch: inherit\; font-size: 18px\; line-height: inherit\; font-family: inherit\; vertical-align: baseline\; color: rgb(51\, 51\, 51) !important\;">&nbsp\;and</span><a data-auth="NotApplicable" data-linkindex="4" href="https://r20.rs6.net/tn.jsp?f=0010DUHt9A688tV8j0wRM7-Symr_PQRpjNWGWt234LyD59zENthio45rowsjT1_6-3QvovtmFmJph5Af9Aax4YacPPMru0WIEVRH9YgBCvttiGwQu2xIycP2r0TUmjI4kpzD2he-1tVUE4vif8bznvhOZphYR6vmFgxJDK6_IlmNdGYKw02rabqIhwAQt3zuoz90nKjZNpN07HrBjed4_HiqMDqO3P0OdeaNAmu8QPhkKuYCkMAtl4RAg==&amp\;c=W5xL7vmr5G0UAzSFdkSq-YFSZXbOj9Mq_Cgo6J3YO1uSEpsua9gREQ==&amp\;ch=cIThWjNSHXmx9Kfz5_CJY_WJIHE_eurb8IG_3BEi36eqk5kzK1QrPA==&amp\;jrc=1" rel="noopener noreferrer" style="color: rgb(51\, 51\, 51) !important\; margin: 0px\; padding: 0px\; border: 0px\; font-variant: inherit\; font-stretch: inherit\; font-size: 18px\; line-height: inherit\; font-family: inherit\; vertical-align: baseline\; text-decoration-line: none\;" target="_blank">&nbsp\;LinkedIn&nbsp\;</a><span style="margin: 0px\; padding: 0px\; border: 0px\; font-style: inherit\; font-variant: inherit\; font-weight: inherit\; font-stretch: inherit\; font-size: 18px\; line-height: inherit\; font-family: inherit\; vertical-align: baseline\; color: rgb(51\, 51\, 51) !important\;">pages)</span><span style="margin: 0px\; padding: 0px\; border: 0px\; font-style: inherit\; font-variant: inherit\; font-weight: inherit\; font-stretch: inherit\; font-size: 13px\; line-height: inherit\; font-family: inherit\; vertical-align: baseline\; color: rgb(51\, 51\, 51) !important\;">.</span></div>\n\n<div style="margin: 0px\; padding: 0px\; border: 0px\; font-variant-numeric: inherit\; font-variant-east-asian: inherit\; font-stretch: inherit\; font-size: 14px\; line-height: inherit\; font-family: Arial\, Verdana\, Helvetica\, sans-serif\; vertical-align: baseline\; color: rgb(130\, 84\, 33)\;">&nbsp\;</div>\n\n<div style="margin: 0px\; padding: 0px\; border: 0px\; font-variant-numeric: inherit\; font-variant-east-asian: inherit\; font-stretch: inherit\; font-size: 14px\; line-height: inherit\; font-family: Arial\, Verdana\, Helvetica\, sans-serif\; vertical-align: baseline\; color: rgb(130\, 84\, 33)\;"><span style="margin: 0px\; padding: 0px\; border: 0px\; font-style: inherit\; font-variant: inherit\; font-weight: inherit\; font-stretch: inherit\; font-size: 18px\; line-height: inherit\; font-family: inherit\; vertical-align: baseline\; color: rgb(0\, 0\, 0) !important\;">Please join Debbie and Charlene&nbsp\;at noon at:</span></div>\n\n<div style="margin: 0px\; padding: 0px\; border: 0px\; font-variant-numeric: inherit\; font-variant-east-asian: inherit\; font-stretch: inherit\; font-size: 14px\; line-height: inherit\; font-family: Arial\, Verdana\, Helvetica\, sans-serif\; vertical-align: baseline\; color: rgb(130\, 84\, 33)\;">&nbsp\;</div>\n\n<div align="center" style="margin: 0px\; padding: 0px\; border: 0px\; font-variant-numeric: inherit\; font-variant-east-asian: inherit\; font-stretch: inherit\; font-size: 14px\; line-height: inherit\; font-family: Arial\, Verdana\, Helvetica\, sans-serif\; vertical-align: baseline\; color: rgb(130\, 84\, 33)\; text-align: center\;"><span style="margin: 0px\; padding: 0px\; border: 0px\; font-style: inherit\; font-variant: inherit\; font-weight: inherit\; font-stretch: inherit\; font-size: 18px\; line-height: inherit\; font-family: inherit\; vertical-align: baseline\; color: rgb(0\, 0\, 0) !important\;">1101 W. Liberty St.</span></div>\n\n<div align="center" style="margin: 0px\; padding: 0px\; border: 0px\; font-variant-numeric: inherit\; font-variant-east-asian: inherit\; font-stretch: inherit\; font-size: 14px\; line-height: inherit\; font-family: Arial\, Verdana\, Helvetica\, sans-serif\; vertical-align: baseline\; color: rgb(130\, 84\, 33)\; text-align: center\;"><span style="margin: 0px\; padding: 0px\; border: 0px\; font-style: inherit\; font-variant: inherit\; font-weight: inherit\; font-stretch: inherit\; font-size: 18px\; line-height: inherit\; font-family: inherit\; vertical-align: baseline\; color: rgb(0\, 0\, 0) !important\;">Medina\, Ohio</span></div>\n\n<div align="center" style="margin: 0px\; padding: 0px\; border: 0px\; font-variant-numeric: inherit\; font-variant-east-asian: inherit\; font-stretch: inherit\; font-size: 14px\; line-height: inherit\; font-family: Arial\, Verdana\, Helvetica\, sans-serif\; vertical-align: baseline\; color: rgb(130\, 84\, 33)\; text-align: center\;">&nbsp\;</div>\n\n<div style="margin: 0px\; padding: 0px\; border: 0px\; font-variant-numeric: inherit\; font-variant-east-asian: inherit\; font-stretch: inherit\; font-size: 14px\; line-height: inherit\; font-family: Arial\, Verdana\, Helvetica\, sans-serif\; vertical-align: baseline\; color: rgb(130\, 84\, 33)\;"><span style="margin: 0px\; padding: 0px\; border: 0px\; font-style: inherit\; font-variant: inherit\; font-weight: inherit\; font-stretch: inherit\; font-size: 18px\; line-height: inherit\; vertical-align: baseline\; color: rgb(51\, 51\, 51) !important\;">On Wednesday\, April 6th&nbsp\;they are open 10:30am to 1:00pm.&nbsp\;</span></div>\n\n<div style="margin: 0px\; padding: 0px\; border: 0px\; font-variant-numeric: inherit\; font-variant-east-asian: inherit\; font-stretch: inherit\; font-size: 14px\; line-height: inherit\; font-family: Arial\, Verdana\, Helvetica\, sans-serif\; vertical-align: baseline\; color: rgb(130\, 84\, 33)\;">&nbsp\;</div>\n\n<div style="margin: 0px\; padding: 0px\; border: 0px\; font-variant-numeric: inherit\; font-variant-east-asian: inherit\; font-stretch: inherit\; font-size: 14px\; line-height: inherit\; font-family: Arial\, Verdana\, Helvetica\, sans-serif\; vertical-align: baseline\; color: rgb(130\, 84\, 33)\;"><span style="margin: 0px\; padding: 0px\; border: 0px\; font-style: inherit\; font-variant: inherit\; font-weight: inherit\; font-stretch: inherit\; font-size: 18px\; line-height: inherit\; font-family: inherit\; vertical-align: baseline\; color: rgb(0\, 0\, 0) !important\;">Please show your support for restaurants in our communities!</span></div>\n\n<div style="margin: 0px\; padding: 0px\; border: 0px\; font-variant-numeric: inherit\; font-variant-east-asian: inherit\; font-stretch: inherit\; font-size: 14px\; line-height: inherit\; font-family: Arial\, Verdana\, Helvetica\, sans-serif\; vertical-align: baseline\; color: rgb(130\, 84\, 33)\;"><span style="margin: 0px\; padding: 0px\; border: 0px\; font-style: inherit\; font-variant: inherit\; font-weight: inherit\; font-stretch: inherit\; font-size: 18px\; line-height: inherit\; font-family: inherit\; vertical-align: baseline\; color: rgb(0\, 0\, 0) !important\;">&#65279\;</span></div>\n\n<div style="margin: 0px\; padding: 0px\; border: 0px\; font-variant-numeric: inherit\; font-variant-east-asian: inherit\; font-stretch: inherit\; font-size: 14px\; line-height: inherit\; font-family: Arial\, Verdana\, Helvetica\, sans-serif\; vertical-align: baseline\; color: rgb(130\, 84\, 33)\;"><span style="margin: 0px\; padding: 0px\; border: 0px\; font-style: inherit\; font-variant: inherit\; font-weight: inherit\; font-stretch: inherit\; font-size: 18px\; line-height: inherit\; font-family: inherit\; vertical-align: baseline\; color: rgb(0\, 0\, 0) !important\;">See you there!</span></div>\n
LOCATION:1101 W. Liberty St\, Medina\, OH 44256
UID:e.160.2918
SEQUENCE:3
DTSTAMP:20260420T070759Z
URL:https://members.nmccalliance.com/events/details/nmcca-chamber-chomps-center-caf&#233;-medina-county-career-center-2918
END:VEVENT

END:VCALENDAR
