BEGIN:VCALENDAR
VERSION:2.0
PRODID:-//ChamberMaster//Event Calendar 2.0//EN
METHOD:PUBLISH
X-PUBLISHED-TTL:P3D
REFRESH-INTERVAL:P3D
CALSCALE:GREGORIAN
BEGIN:VEVENT
DTSTART;VALUE=DATE:20220504
DTEND;VALUE=DATE:20220505
TRANSP:TRANSPARENT
X-MICROSOFT-CDO-ALLDAYEVENT:TRUE
SUMMARY:NMCCA Chamber Chomps - Coffee in the Valley - Valley City
DESCRIPTION:Our Chamber Chomps featured restaurant is Coffee in the Valley\n\nin Valley City (as announced on the Northern Medina County Chamber Alliance's Facebook and LinkedIn pages).\n\n \n\nPlease join Debbie and Charlene at noon at:\n\n \n\n6663 Center Rd.\n\nValley City\, Ohio\n\n \n\nOn Wednesdays they are open 7:00am-6:00pm\n\n \n\nPlease show your support for restaurants in our communities!\n\n \n\nSee you there!
X-ALT-DESC;FMTTYPE=text/html:<div style="box-sizing: border-box\; margin: 0px\; padding: 0px\; border: 0px\; outline: 0px\; font-variant-numeric: inherit\; font-variant-east-asian: inherit\; font-stretch: inherit\; line-height: inherit\; vertical-align: baseline\; font-family: Arial\, Verdana\, Helvetica\, sans-serif\; white-space: pre-wrap\;"><span style="box-sizing: border-box\; margin: 0px\; padding: 0px\; border: 0px\; outline: 0px\; font-variant: inherit\; font-stretch: inherit\; line-height: inherit\; vertical-align: baseline\; font-family: arial\; font-weight: inherit\;"><span style="color: rgb(0\, 0\, 0)\; font-size: 18px\; font-style: inherit\; box-sizing: border-box\; margin: 0px\; padding: 0px\; border: 0px\; outline: 0px\; font-variant: inherit\; font-stretch: inherit\; line-height: inherit\; vertical-align: baseline\; font-family: inherit\; font-weight: inherit\;">Our Chamber Chomps featured restaurant is</span><span style="color: rgb(0\, 0\, 0)\; font-size: 18px\; font-style: inherit\; box-sizing: border-box\; margin: 0px\; padding: 0px\; border: 0px\; outline: 0px\; font-variant: inherit\; font-stretch: inherit\; line-height: inherit\; vertical-align: baseline\; font-family: inherit\; font-weight: inherit\;"> </span><a href="https://www.coffeeinthevalley.com/"><span style="box-sizing: border-box\; margin: 0px\; padding: 0px\; border: 0px\; outline: 0px\; font-variant: inherit\; font-stretch: inherit\; line-height: inherit\; vertical-align: baseline\; font-family: inherit\; font-weight: inherit\; font-size: 20px\;"><font color="#a52a2a"><i>Coffee in the Valley</i></font></span></a><br style="box-sizing: border-box\;" />\n<span style="color: rgb(0\, 0\, 0)\; font-size: 18px\; font-style: inherit\; box-sizing: border-box\; margin: 0px\; padding: 0px\; border: 0px\; outline: 0px\; font-variant: inherit\; font-stretch: inherit\; line-height: inherit\; vertical-align: baseline\; font-family: inherit\; font-weight: inherit\;">in Valley City&nbsp\;(as announced on the Northern Medina County Chamber Alliance&#39\;s</span><span style="color: rgb(0\, 0\, 0)\; font-size: 14px\; font-style: inherit\; box-sizing: border-box\; margin: 0px\; padding: 0px\; border: 0px\; outline: 0px\; font-variant: inherit\; font-stretch: inherit\; line-height: inherit\; vertical-align: baseline\; font-family: inherit\; font-weight: inherit\;">&nbsp\;</span><a href="http://r20.rs6.net/tn.jsp?f=001y-exzmLsxWtfdN1qUsriAvGcjyo-hVSdA_vAPxVwwpugj0oryNC87TFvSPde3B6CPeinsdaR2Y9pjgno4TUy_jkl21mRme4d7Q-wicI-oeVUIqiIoRxDhTrsO51kiALfEQxnhNdwQdmQFTr9yIlMp8sbMubAKluy5n2h9iIQ4cIavNF4LWyQ2katrq5Q2QYD&amp\;c=Po1PCcOY1jXyAvAjQzUNE3Mp2jPNSO4n6IfxRMhuJxyvlPTrWOSuFQ==&amp\;ch=v3lwogfjS07fU_6ctjy99rxYLE3JPgSiG1KQjsyl8fIC1HSLbePoEA==" rel="noopener noreferrer" style="color: rgb(0\, 0\, 0)\; font-size: 18px\; font-style: inherit\; box-sizing: border-box\; text-decoration-line: none\; background-color: transparent\; overflow-wrap: break-word\;" target="_blank">Facebook</a><span style="color: rgb(0\, 0\, 0)\; font-size: 14px\; font-style: inherit\; box-sizing: border-box\; margin: 0px\; padding: 0px\; border: 0px\; outline: 0px\; font-variant: inherit\; font-stretch: inherit\; line-height: inherit\; vertical-align: baseline\; font-family: inherit\; font-weight: inherit\;">&nbsp\;<span style="box-sizing: border-box\; margin: 0px\; padding: 0px\; border: 0px\; outline: 0px\; font-variant: inherit\; font-stretch: inherit\; font-size: 18px\; line-height: inherit\; vertical-align: baseline\; font-family: inherit\; font-style: inherit\; font-weight: inherit\;">and</span></span><a href="http://r20.rs6.net/tn.jsp?f=0010DUHt9A688tV8j0wRM7-Symr_PQRpjNWGWt234LyD59zENthio45rowsjT1_6-3QvovtmFmJph5Af9Aax4YacPPMru0WIEVRH9YgBCvttiGwQu2xIycP2r0TUmjI4kpzD2he-1tVUE4vif8bznvhOZphYR6vmFgxJDK6_IlmNdGYKw02rabqIhwAQt3zuoz90nKjZNpN07HrBjed4_HiqMDqO3P0OdeaNAmu8QPhkKuYCkMAtl4RAg==&amp\;c=W5xL7vmr5G0UAzSFdkSq-YFSZXbOj9Mq_Cgo6J3YO1uSEpsua9gREQ==&amp\;ch=cIThWjNSHXmx9Kfz5_CJY_WJIHE_eurb8IG_3BEi36eqk5kzK1QrPA==&amp\;jrc=1" rel="noopener noreferrer" style="color: rgb(0\, 0\, 0)\; font-size: 18px\; font-style: inherit\; box-sizing: border-box\; text-decoration-line: none\; background-color: transparent\; overflow-wrap: break-word\;" target="_blank">&nbsp\;LinkedIn&nbsp\;</a><span style="color: rgb(0\, 0\, 0)\; font-size: 14px\; font-style: inherit\; box-sizing: border-box\; margin: 0px\; padding: 0px\; border: 0px\; outline: 0px\; font-variant: inherit\; font-stretch: inherit\; line-height: inherit\; vertical-align: baseline\; font-family: inherit\; font-weight: inherit\;"><span style="box-sizing: border-box\; margin: 0px\; padding: 0px\; border: 0px\; outline: 0px\; font-variant: inherit\; font-stretch: inherit\; font-size: 18px\; line-height: inherit\; vertical-align: baseline\; font-family: inherit\; font-style: inherit\; font-weight: inherit\;">pages)</span>.</span></span></div>\n\n<div style="box-sizing: border-box\; margin: 0px\; padding: 0px\; border: 0px\; outline: 0px\; font-variant-numeric: inherit\; font-variant-east-asian: inherit\; font-stretch: inherit\; font-size: 14px\; line-height: inherit\; vertical-align: baseline\; font-family: Arial\, Verdana\, Helvetica\, sans-serif\; color: rgb(130\, 84\, 33)\; white-space: pre-wrap\;">&nbsp\;</div>\n\n<div style="box-sizing: border-box\; margin: 0px\; padding: 0px\; border: 0px\; outline: 0px\; font-variant-numeric: inherit\; font-variant-east-asian: inherit\; font-stretch: inherit\; font-size: 14px\; line-height: inherit\; vertical-align: baseline\; font-family: Arial\, Verdana\, Helvetica\, sans-serif\; color: rgb(130\, 84\, 33)\; white-space: pre-wrap\;"><span style="box-sizing: border-box\; margin: 0px\; padding: 0px\; border: 0px\; outline: 0px\; font: inherit\; vertical-align: baseline\; color: rgb(0\, 0\, 0)\;"><span style="box-sizing: border-box\; margin: 0px\; padding: 0px\; border: 0px\; outline: 0px\; font-variant: inherit\; font-stretch: inherit\; font-size: 18px\; line-height: inherit\; vertical-align: baseline\; font-family: inherit\; font-style: inherit\; font-weight: inherit\;">P<span style="box-sizing: border-box\; margin: 0px\; padding: 0px\; border: 0px\; outline: 0px\; font-variant: inherit\; font-stretch: inherit\; font-size: inherit\; line-height: inherit\; vertical-align: baseline\; font-family: arial\; font-style: inherit\; font-weight: inherit\;">lease join Debbie and Charlene&nbsp\;at noon at:</span></span></span><br style="box-sizing: border-box\;" />\n&nbsp\;</div>\n\n<div style="box-sizing: border-box\; margin: 0px\; padding: 0px\; border: 0px\; outline: 0px\; font-variant-numeric: inherit\; font-variant-east-asian: inherit\; font-stretch: inherit\; font-size: 14px\; line-height: inherit\; vertical-align: baseline\; font-family: Arial\, Verdana\, Helvetica\, sans-serif\; color: rgb(130\, 84\, 33)\; white-space: pre-wrap\; text-align: center\;"><span style="box-sizing: border-box\; margin: 0px\; padding: 0px\; border: 0px\; outline: 0px\; font-variant: inherit\; font-stretch: inherit\; font-size: inherit\; line-height: inherit\; vertical-align: baseline\; font-family: arial\; font-style: inherit\; font-weight: inherit\;"><span style="box-sizing: border-box\; margin: 0px\; padding: 0px\; border: 0px\; outline: 0px\; font: inherit\; vertical-align: baseline\; color: rgb(0\, 0\, 0)\;"><span style="box-sizing: border-box\; margin: 0px\; padding: 0px\; border: 0px\; outline: 0px\; font-variant: inherit\; font-stretch: inherit\; font-size: 18px\; line-height: inherit\; vertical-align: baseline\; font-family: inherit\; font-style: inherit\; font-weight: inherit\;">6663 Center Rd.</span></span></span></div>\n\n<div style="box-sizing: border-box\; margin: 0px\; padding: 0px\; border: 0px\; outline: 0px\; font-variant-numeric: inherit\; font-variant-east-asian: inherit\; font-stretch: inherit\; font-size: 14px\; line-height: inherit\; vertical-align: baseline\; font-family: Arial\, Verdana\, Helvetica\, sans-serif\; color: rgb(130\, 84\, 33)\; white-space: pre-wrap\; text-align: center\;"><span style="box-sizing: border-box\; margin: 0px\; padding: 0px\; border: 0px\; outline: 0px\; font-variant: inherit\; font-stretch: inherit\; font-size: inherit\; line-height: inherit\; vertical-align: baseline\; font-family: arial\; font-style: inherit\; font-weight: inherit\;"><span style="box-sizing: border-box\; margin: 0px\; padding: 0px\; border: 0px\; outline: 0px\; font: inherit\; vertical-align: baseline\; color: rgb(0\, 0\, 0)\;"><span style="box-sizing: border-box\; margin: 0px\; padding: 0px\; border: 0px\; outline: 0px\; font-variant: inherit\; font-stretch: inherit\; font-size: 18px\; line-height: inherit\; vertical-align: baseline\; font-family: inherit\; font-style: inherit\; font-weight: inherit\;">Valley City\, Ohio</span></span></span><br style="box-sizing: border-box\;" />\n&nbsp\;</div>\n\n<div font-size:="" style="box-sizing: border-box\; margin: 0px\; padding: 0px\; border: 0px\; outline: 0px\; font-variant-numeric: inherit\; font-variant-east-asian: inherit\; font-stretch: inherit\; line-height: inherit\; vertical-align: baseline\;" trebuchet=""><font color="#000000" face="Arial\, Verdana\, Helvetica\, sans-serif" size="4"><span style="white-space: pre-wrap\;">On Wednesdays they are open 7:00am-6:00pm</span></font></div>\n\n<div style="box-sizing: border-box\; margin: 0px\; padding: 0px\; border: 0px\; outline: 0px\; font-variant-numeric: inherit\; font-variant-east-asian: inherit\; font-stretch: inherit\; font-size: 14px\; line-height: inherit\; vertical-align: baseline\; font-family: Arial\, Verdana\, Helvetica\, sans-serif\; color: rgb(130\, 84\, 33)\; white-space: pre-wrap\;">&nbsp\;</div>\n\n<div style="box-sizing: border-box\; margin: 0px\; padding: 0px\; border: 0px\; outline: 0px\; font-variant-numeric: inherit\; font-variant-east-asian: inherit\; font-stretch: inherit\; font-size: 14px\; line-height: inherit\; vertical-align: baseline\; font-family: Arial\, Verdana\, Helvetica\, sans-serif\; color: rgb(130\, 84\, 33)\; white-space: pre-wrap\;"><span style="box-sizing: border-box\; margin: 0px\; padding: 0px\; border: 0px\; outline: 0px\; font: inherit\; vertical-align: baseline\; color: rgb(0\, 0\, 0)\;"><span style="box-sizing: border-box\; margin: 0px\; padding: 0px\; border: 0px\; outline: 0px\; font-variant: inherit\; font-stretch: inherit\; font-size: 18px\; line-height: inherit\; vertical-align: baseline\; font-family: inherit\; font-style: inherit\; font-weight: inherit\;">Please show your support for restaurants in our communities!</span></span></div>\n\n<div style="box-sizing: border-box\; margin: 0px\; padding: 0px\; border: 0px\; outline: 0px\; font-variant-numeric: inherit\; font-variant-east-asian: inherit\; font-stretch: inherit\; font-size: 14px\; line-height: inherit\; vertical-align: baseline\; font-family: Arial\, Verdana\, Helvetica\, sans-serif\; color: rgb(130\, 84\, 33)\; white-space: pre-wrap\;"><span style="box-sizing: border-box\; margin: 0px\; padding: 0px\; border: 0px\; outline: 0px\; font: inherit\; vertical-align: baseline\; color: rgb(0\, 0\, 0)\;"><span style="box-sizing: border-box\; margin: 0px\; padding: 0px\; border: 0px\; outline: 0px\; font-variant: inherit\; font-stretch: inherit\; font-size: 18px\; line-height: inherit\; vertical-align: baseline\; font-family: inherit\; font-style: inherit\; font-weight: inherit\;">&#65279\;</span></span></div>\n\n<div style="box-sizing: border-box\; margin: 0px\; padding: 0px\; border: 0px\; outline: 0px\; font-variant-numeric: inherit\; font-variant-east-asian: inherit\; font-stretch: inherit\; font-size: 14px\; line-height: inherit\; vertical-align: baseline\; font-family: Arial\, Verdana\, Helvetica\, sans-serif\; color: rgb(130\, 84\, 33)\; white-space: pre-wrap\;"><span style="box-sizing: border-box\; margin: 0px\; padding: 0px\; border: 0px\; outline: 0px\; font: inherit\; vertical-align: baseline\; color: rgb(0\, 0\, 0)\;"><span style="box-sizing: border-box\; margin: 0px\; padding: 0px\; border: 0px\; outline: 0px\; font-variant: inherit\; font-stretch: inherit\; font-size: 18px\; line-height: inherit\; vertical-align: baseline\; font-family: inherit\; font-style: inherit\; font-weight: inherit\;">See you there!</span></span></div>\n
LOCATION:Coffee in the Valley 6663 Center Rd. Valley City\, OH 44280
UID:e.160.2920
SEQUENCE:3
DTSTAMP:20260420T085732Z
URL:https://members.nmccalliance.com/events/details/nmcca-chamber-chomps-coffee-in-the-valley-valley-city-2920
END:VEVENT

END:VCALENDAR
