BEGIN:VCALENDAR
VERSION:2.0
PRODID:-//ChamberMaster//Event Calendar 2.0//EN
METHOD:PUBLISH
X-PUBLISHED-TTL:P3D
REFRESH-INTERVAL:P3D
CALSCALE:GREGORIAN
BEGIN:VEVENT
DTSTART:20220202T160000Z
DTEND:20220203T030000Z
X-MICROSOFT-CDO-ALLDAYEVENT:FALSE
SUMMARY:NMCCA Chamber Chomps - Gandolf's
DESCRIPTION:Our Chamber Chomps featured restaurant is Gandalf's  \n\nin Valley City (as announced on the Northern Medina County Chamber Alliance's Facebook and LinkedIn pages).\n\n \n\nPlease join Debbie and Charlene at noon at:\n\n \n\n6757 Center Rd.\n\nValley City\, Ohio\n\n \n\nThey are open 11am to 10pm on Wednesday's. \n\n \n\nPlease show your support for restaurants in our communities!\n\n \n\nSee you there!
X-ALT-DESC;FMTTYPE=text/html:<div style="margin: 0px\; padding: 0px\; border: 0px\; font-variant-numeric: inherit\; font-variant-east-asian: inherit\; font-stretch: inherit\; font-size: 14px\; line-height: inherit\; font-family: Arial\, Verdana\, Helvetica\, sans-serif\; vertical-align: baseline\; color: rgb(130\, 84\, 33)\; background-color: rgb(255\, 255\, 255)\;"><span style="margin: 0px\; padding: 0px\; border: 0px\; font-style: inherit\; font-variant: inherit\; font-weight: inherit\; font-stretch: inherit\; font-size: 18px\; line-height: inherit\; font-family: inherit\; vertical-align: baseline\; color: rgb(51\, 51\, 51) !important\;">Our Chamber Chomps featured restaurant is <em><a href="https://www.gandalfspub.com/">Gandalf&#39\;s</a>&nbsp\;</em>&nbsp\;</span></div>\n\n<div style="margin: 0px\; padding: 0px\; border: 0px\; font-variant-numeric: inherit\; font-variant-east-asian: inherit\; font-stretch: inherit\; font-size: 14px\; line-height: inherit\; font-family: Arial\, Verdana\, Helvetica\, sans-serif\; vertical-align: baseline\; color: rgb(130\, 84\, 33)\; background-color: rgb(255\, 255\, 255)\;"><span style="margin: 0px\; padding: 0px\; border: 0px\; font-style: inherit\; font-variant: inherit\; font-weight: inherit\; font-stretch: inherit\; font-size: 18px\; line-height: inherit\; font-family: inherit\; vertical-align: baseline\; color: rgb(51\, 51\, 51) !important\;">in Valley City (as announced on the Northern Medina County Chamber Alliance&#39\;s&nbsp\;</span><a data-auth="NotApplicable" data-linkindex="3" href="https://r20.rs6.net/tn.jsp?f=001y-exzmLsxWtfdN1qUsriAvGcjyo-hVSdA_vAPxVwwpugj0oryNC87TFvSPde3B6CPeinsdaR2Y9pjgno4TUy_jkl21mRme4d7Q-wicI-oeVUIqiIoRxDhTrsO51kiALfEQxnhNdwQdmQFTr9yIlMp8sbMubAKluy5n2h9iIQ4cIavNF4LWyQ2katrq5Q2QYD&amp\;c=Po1PCcOY1jXyAvAjQzUNE3Mp2jPNSO4n6IfxRMhuJxyvlPTrWOSuFQ==&amp\;ch=v3lwogfjS07fU_6ctjy99rxYLE3JPgSiG1KQjsyl8fIC1HSLbePoEA==" rel="noopener noreferrer" style="margin: 0px\; padding: 0px\; border: 0px\; font-variant: inherit\; font-stretch: inherit\; font-size: 18px\; line-height: inherit\; font-family: inherit\; vertical-align: baseline\; text-decoration-line: none\; color: rgb(51\, 51\, 51) !important\;" target="_blank">Facebook</a><span style="margin: 0px\; padding: 0px\; border: 0px\; font-style: inherit\; font-variant: inherit\; font-weight: inherit\; font-stretch: inherit\; font-size: 18px\; line-height: inherit\; font-family: inherit\; vertical-align: baseline\; color: rgb(51\, 51\, 51) !important\;">&nbsp\;and</span><a data-auth="NotApplicable" data-linkindex="4" href="https://r20.rs6.net/tn.jsp?f=0010DUHt9A688tV8j0wRM7-Symr_PQRpjNWGWt234LyD59zENthio45rowsjT1_6-3QvovtmFmJph5Af9Aax4YacPPMru0WIEVRH9YgBCvttiGwQu2xIycP2r0TUmjI4kpzD2he-1tVUE4vif8bznvhOZphYR6vmFgxJDK6_IlmNdGYKw02rabqIhwAQt3zuoz90nKjZNpN07HrBjed4_HiqMDqO3P0OdeaNAmu8QPhkKuYCkMAtl4RAg==&amp\;c=W5xL7vmr5G0UAzSFdkSq-YFSZXbOj9Mq_Cgo6J3YO1uSEpsua9gREQ==&amp\;ch=cIThWjNSHXmx9Kfz5_CJY_WJIHE_eurb8IG_3BEi36eqk5kzK1QrPA==&amp\;jrc=1" rel="noopener noreferrer" style="margin: 0px\; padding: 0px\; border: 0px\; font-variant: inherit\; font-stretch: inherit\; font-size: 18px\; line-height: inherit\; font-family: inherit\; vertical-align: baseline\; text-decoration-line: none\; color: rgb(51\, 51\, 51) !important\;" target="_blank">&nbsp\;LinkedIn&nbsp\;</a><span style="margin: 0px\; padding: 0px\; border: 0px\; font-style: inherit\; font-variant: inherit\; font-weight: inherit\; font-stretch: inherit\; font-size: 18px\; line-height: inherit\; font-family: inherit\; vertical-align: baseline\; color: rgb(51\, 51\, 51) !important\;">pages)</span><span style="margin: 0px\; padding: 0px\; border: 0px\; font-style: inherit\; font-variant: inherit\; font-weight: inherit\; font-stretch: inherit\; font-size: 13px\; line-height: inherit\; font-family: inherit\; vertical-align: baseline\; color: rgb(51\, 51\, 51) !important\;">.</span></div>\n\n<div style="margin: 0px\; padding: 0px\; border: 0px\; font-variant-numeric: inherit\; font-variant-east-asian: inherit\; font-stretch: inherit\; font-size: 14px\; line-height: inherit\; font-family: Arial\, Verdana\, Helvetica\, sans-serif\; vertical-align: baseline\; color: rgb(130\, 84\, 33)\; background-color: rgb(255\, 255\, 255)\;">&nbsp\;</div>\n\n<div style="margin: 0px\; padding: 0px\; border: 0px\; font-variant-numeric: inherit\; font-variant-east-asian: inherit\; font-stretch: inherit\; font-size: 14px\; line-height: inherit\; font-family: Arial\, Verdana\, Helvetica\, sans-serif\; vertical-align: baseline\; color: rgb(130\, 84\, 33)\; background-color: rgb(255\, 255\, 255)\;"><span style="margin: 0px\; padding: 0px\; border: 0px\; font-style: inherit\; font-variant: inherit\; font-weight: inherit\; font-stretch: inherit\; font-size: 18px\; line-height: inherit\; font-family: inherit\; vertical-align: baseline\; color: rgb(0\, 0\, 0) !important\;">Please join Debbie and Charlene&nbsp\;at noon at:</span></div>\n\n<div style="margin: 0px\; padding: 0px\; border: 0px\; font-variant-numeric: inherit\; font-variant-east-asian: inherit\; font-stretch: inherit\; font-size: 14px\; line-height: inherit\; font-family: Arial\, Verdana\, Helvetica\, sans-serif\; vertical-align: baseline\; color: rgb(130\, 84\, 33)\; background-color: rgb(255\, 255\, 255)\;">&nbsp\;</div>\n\n<div align="center" style="margin: 0px\; padding: 0px\; border: 0px\; font-variant-numeric: inherit\; font-variant-east-asian: inherit\; font-stretch: inherit\; font-size: 14px\; line-height: inherit\; font-family: Arial\, Verdana\, Helvetica\, sans-serif\; vertical-align: baseline\; color: rgb(130\, 84\, 33)\; background-color: rgb(255\, 255\, 255)\; text-align: center\;"><span style="margin: 0px\; padding: 0px\; border: 0px\; font-style: inherit\; font-variant: inherit\; font-weight: inherit\; font-stretch: inherit\; font-size: 18px\; line-height: inherit\; font-family: inherit\; vertical-align: baseline\; color: rgb(0\, 0\, 0) !important\;">6757 Center Rd.</span></div>\n\n<div align="center" style="margin: 0px\; padding: 0px\; border: 0px\; font-variant-numeric: inherit\; font-variant-east-asian: inherit\; font-stretch: inherit\; font-size: 14px\; line-height: inherit\; font-family: Arial\, Verdana\, Helvetica\, sans-serif\; vertical-align: baseline\; color: rgb(130\, 84\, 33)\; background-color: rgb(255\, 255\, 255)\; text-align: center\;"><span style="margin: 0px\; padding: 0px\; border: 0px\; font-style: inherit\; font-variant: inherit\; font-weight: inherit\; font-stretch: inherit\; font-size: 18px\; line-height: inherit\; font-family: inherit\; vertical-align: baseline\; color: rgb(0\, 0\, 0) !important\;">Valley City\, Ohio</span></div>\n\n<div align="center" style="margin: 0px\; padding: 0px\; border: 0px\; font-variant-numeric: inherit\; font-variant-east-asian: inherit\; font-stretch: inherit\; font-size: 14px\; line-height: inherit\; font-family: Arial\, Verdana\, Helvetica\, sans-serif\; vertical-align: baseline\; color: rgb(130\, 84\, 33)\; background-color: rgb(255\, 255\, 255)\; text-align: center\;">&nbsp\;</div>\n\n<div style="margin: 0px\; padding: 0px\; border: 0px\; font-variant-numeric: inherit\; font-variant-east-asian: inherit\; font-stretch: inherit\; font-size: 14px\; line-height: inherit\; font-family: Arial\, Verdana\, Helvetica\, sans-serif\; vertical-align: baseline\; color: rgb(130\, 84\, 33)\; background-color: rgb(255\, 255\, 255)\;"><span style="margin: 0px\; padding: 0px\; border: 0px\; font-style: inherit\; font-variant: inherit\; font-weight: inherit\; font-stretch: inherit\; font-size: 18px\; line-height: inherit\; vertical-align: baseline\; color: rgb(51\, 51\, 51) !important\;">They are open 11am to 10pm on Wednesday&#39\;s.&nbsp\;</span></div>\n\n<div style="margin: 0px\; padding: 0px\; border: 0px\; font-variant-numeric: inherit\; font-variant-east-asian: inherit\; font-stretch: inherit\; font-size: 14px\; line-height: inherit\; font-family: Arial\, Verdana\, Helvetica\, sans-serif\; vertical-align: baseline\; color: rgb(130\, 84\, 33)\; background-color: rgb(255\, 255\, 255)\;">&nbsp\;</div>\n\n<div style="margin: 0px\; padding: 0px\; border: 0px\; font-variant-numeric: inherit\; font-variant-east-asian: inherit\; font-stretch: inherit\; font-size: 14px\; line-height: inherit\; font-family: Arial\, Verdana\, Helvetica\, sans-serif\; vertical-align: baseline\; color: rgb(130\, 84\, 33)\; background-color: rgb(255\, 255\, 255)\;"><span style="margin: 0px\; padding: 0px\; border: 0px\; font-style: inherit\; font-variant: inherit\; font-weight: inherit\; font-stretch: inherit\; font-size: 18px\; line-height: inherit\; font-family: inherit\; vertical-align: baseline\; color: rgb(0\, 0\, 0) !important\;">Please show your support for restaurants in our communities!</span></div>\n\n<div style="margin: 0px\; padding: 0px\; border: 0px\; font-variant-numeric: inherit\; font-variant-east-asian: inherit\; font-stretch: inherit\; font-size: 14px\; line-height: inherit\; font-family: Arial\, Verdana\, Helvetica\, sans-serif\; vertical-align: baseline\; color: rgb(130\, 84\, 33)\; background-color: rgb(255\, 255\, 255)\;"><span style="margin: 0px\; padding: 0px\; border: 0px\; font-style: inherit\; font-variant: inherit\; font-weight: inherit\; font-stretch: inherit\; font-size: 18px\; line-height: inherit\; font-family: inherit\; vertical-align: baseline\; color: rgb(0\, 0\, 0) !important\;">&#65279\;</span></div>\n\n<div style="margin: 0px\; padding: 0px\; border: 0px\; font-variant-numeric: inherit\; font-variant-east-asian: inherit\; font-stretch: inherit\; font-size: 14px\; line-height: inherit\; font-family: Arial\, Verdana\, Helvetica\, sans-serif\; vertical-align: baseline\; color: rgb(130\, 84\, 33)\; background-color: rgb(255\, 255\, 255)\;"><span style="margin: 0px\; padding: 0px\; border: 0px\; font-style: inherit\; font-variant: inherit\; font-weight: inherit\; font-stretch: inherit\; font-size: 18px\; line-height: inherit\; font-family: inherit\; vertical-align: baseline\; color: rgb(0\, 0\, 0) !important\;">See you there!</span></div>\n
LOCATION:6757 Center Rd. Valley City\, OH 44280
UID:e.160.2916
SEQUENCE:3
DTSTAMP:20260420T032756Z
URL:https://members.nmccalliance.com/events/details/nmcca-chamber-chomps-gandolf-s-2916
END:VEVENT

END:VCALENDAR
