BEGIN:VCALENDAR
VERSION:2.0
PRODID:-//ChamberMaster//Event Calendar 2.0//EN
METHOD:PUBLISH
X-PUBLISHED-TTL:P3D
REFRESH-INTERVAL:P3D
CALSCALE:GREGORIAN
BEGIN:VEVENT
DTSTART;VALUE=DATE:20211201
DTEND;VALUE=DATE:20211202
TRANSP:TRANSPARENT
X-MICROSOFT-CDO-ALLDAYEVENT:TRUE
SUMMARY:NMCCA Chamber Chomps - Rito's Italian Bakery and Deli
DESCRIPTION:Our Chamber Chomps featured restaurant is Rito's Italian Bakery & Deli \n\nin Brunswick (as announced on the Northern Medina County Chamber Alliance's Facebook and LinkedIn pages).\n\n \n\nPlease join Debbie and Charlene at noon at:\n\n \n\n1930 Pearl Rd.\n\nBrunswick\, Ohio\n\n \n\nThey are open 9am to 5:30pm on Wednesday's. Rito's is offering a special of the day: Purchase a hot corned beef sandwich or slice of Pizza and receive a free small cannoli. Rito's is requesting to call ahead to order if joining members for lunch.\n\n \n\nPlease show your support for restaurants in our communities!\n\n \n\nHope to see you there!
X-ALT-DESC;FMTTYPE=text/html:<div style="font-family: Arial\, Verdana\, Helvetica\, sans-serif\; white-space: pre-wrap\;"><span style="font-family: arial\;"><span style="color: rgb(0\, 0\, 0)\; font-size: 18px\;">Our Chamber Chomps featured restaurant is</span><span style="color: rgb(0\, 0\, 0)\; font-size: 18px\;"> </span><a href="https://www.ritosbakery.com/"><font color="#a52a2a"><span style="font-size: 20px\;"><i>Rito&#39\;s Italian Bakery &amp\; Deli</i></span></font><span style="color: rgb(0\, 0\, 0)\; font-size: 18px\;"> </span></a><br />\n<span style="color: rgb(0\, 0\, 0)\; font-size: 18px\;">in Brunswick&nbsp\;(as announced on the Northern Medina County Chamber Alliance&#39\;s</span><span style="color: rgb(0\, 0\, 0)\; font-size: 14px\;">&nbsp\;</span><a href="http://r20.rs6.net/tn.jsp?f=001y-exzmLsxWtfdN1qUsriAvGcjyo-hVSdA_vAPxVwwpugj0oryNC87TFvSPde3B6CPeinsdaR2Y9pjgno4TUy_jkl21mRme4d7Q-wicI-oeVUIqiIoRxDhTrsO51kiALfEQxnhNdwQdmQFTr9yIlMp8sbMubAKluy5n2h9iIQ4cIavNF4LWyQ2katrq5Q2QYD&amp\;c=Po1PCcOY1jXyAvAjQzUNE3Mp2jPNSO4n6IfxRMhuJxyvlPTrWOSuFQ==&amp\;ch=v3lwogfjS07fU_6ctjy99rxYLE3JPgSiG1KQjsyl8fIC1HSLbePoEA==" rel="noopener noreferrer" style="color: rgb(0\, 0\, 0)\; font-size: 18px\; text-decoration-line: none\;" target="_blank">Facebook</a><span style="color: rgb(0\, 0\, 0)\; font-size: 14px\;">&nbsp\;<span style="font-size: 18px\;">and</span></span><a href="http://r20.rs6.net/tn.jsp?f=0010DUHt9A688tV8j0wRM7-Symr_PQRpjNWGWt234LyD59zENthio45rowsjT1_6-3QvovtmFmJph5Af9Aax4YacPPMru0WIEVRH9YgBCvttiGwQu2xIycP2r0TUmjI4kpzD2he-1tVUE4vif8bznvhOZphYR6vmFgxJDK6_IlmNdGYKw02rabqIhwAQt3zuoz90nKjZNpN07HrBjed4_HiqMDqO3P0OdeaNAmu8QPhkKuYCkMAtl4RAg==&amp\;c=W5xL7vmr5G0UAzSFdkSq-YFSZXbOj9Mq_Cgo6J3YO1uSEpsua9gREQ==&amp\;ch=cIThWjNSHXmx9Kfz5_CJY_WJIHE_eurb8IG_3BEi36eqk5kzK1QrPA==&amp\;jrc=1" rel="noopener noreferrer" style="color: rgb(0\, 0\, 0)\; font-size: 18px\; text-decoration-line: none\;" target="_blank">&nbsp\;LinkedIn&nbsp\;</a><span style="color: rgb(0\, 0\, 0)\; font-size: 14px\;"><span style="font-size: 18px\;">pages)</span>.</span></span></div>\n\n<div style="color: rgb(130\, 84\, 33)\; font-family: Arial\, Verdana\, Helvetica\, sans-serif\; font-size: 14px\; white-space: pre-wrap\;">&nbsp\;</div>\n\n<div style="color: rgb(130\, 84\, 33)\; font-family: Arial\, Verdana\, Helvetica\, sans-serif\; font-size: 14px\; white-space: pre-wrap\;"><span style="color: rgb(0\, 0\, 0)\;"><span style="font-size: 18px\;">P<span style="font-family:arial\;">lease join Debbie and Charlene&nbsp\;at noon at:</span></span></span><br />\n&nbsp\;</div>\n\n<div style="color: rgb(130\, 84\, 33)\; font-family: Arial\, Verdana\, Helvetica\, sans-serif\; font-size: 14px\; white-space: pre-wrap\; text-align: center\;"><span style="font-family:arial\;"><span style="color: rgb(0\, 0\, 0)\;"><span style="font-size: 18px\;">1930 Pearl Rd.</span></span></span></div>\n\n<div style="color: rgb(130\, 84\, 33)\; font-family: Arial\, Verdana\, Helvetica\, sans-serif\; font-size: 14px\; white-space: pre-wrap\; text-align: center\;"><span style="font-family:arial\;"><span style="color: rgb(0\, 0\, 0)\;"><span style="font-size: 18px\;">Brunswick\, Ohio</span></span></span><br />\n&nbsp\;</div>\n\n<div><font color="#000000" face="Arial\, Verdana\, Helvetica\, sans-serif" size="4"><span style="white-space: pre-wrap\;">They are open 9am to 5:30pm on Wednesday&#39\;s. Rito&#39\;s is offering a special of the day: Purchase a hot corned beef </span><span style="caret-color: rgb(0\, 0\, 0)\; white-space: pre-wrap\;">sandwich</span></font><span style="color: rgb(32\, 31\, 30)\; font-family: &quot\;Segoe UI&quot\;\, &quot\;Segoe UI Web (West European)&quot\;\, &quot\;Segoe UI&quot\;\, -apple-system\, BlinkMacSystemFont\, Roboto\, &quot\;Helvetica Neue&quot\;\, sans-serif\; font-size: 15px\; white-space: pre-wrap\; caret-color: rgb(32\, 31\, 30)\;"> <span style="font-size:18px\;"><span style="font-family:arial\;">or slice of Pizza and receive a free small cannoli. Rito&#39\;s is requesting to call ahead to order if joining members for lunch.</span></span></span></div>\n\n<div style="color: rgb(130\, 84\, 33)\; font-family: Arial\, Verdana\, Helvetica\, sans-serif\; font-size: 14px\; white-space: pre-wrap\;">&nbsp\;</div>\n\n<div style="color: rgb(130\, 84\, 33)\; font-family: Arial\, Verdana\, Helvetica\, sans-serif\; font-size: 14px\; white-space: pre-wrap\;"><span style="color: rgb(0\, 0\, 0)\;"><span style="font-size: 18px\;">Please show your support for restaurants in our communities!</span></span></div>\n\n<div style="color: rgb(130\, 84\, 33)\; font-family: Arial\, Verdana\, Helvetica\, sans-serif\; font-size: 14px\; white-space: pre-wrap\;"><span style="color: rgb(0\, 0\, 0)\;"><span style="font-size: 18px\;">&#65279\;</span></span></div>\n\n<div style="color: rgb(130\, 84\, 33)\; font-family: Arial\, Verdana\, Helvetica\, sans-serif\; font-size: 14px\; white-space: pre-wrap\;"><span style="color: rgb(0\, 0\, 0)\;"><span style="font-size: 18px\;">Hope to see you there!</span></span></div>\n
LOCATION:1930 Pearl Rd. Brunswick. OH 44212
UID:e.160.2911
SEQUENCE:3
DTSTAMP:20260420T000815Z
URL:https://members.nmccalliance.com/events/details/nmcca-chamber-chomps-rito-s-italian-bakery-and-deli-2911
END:VEVENT

END:VCALENDAR
