BEGIN:VCALENDAR
VERSION:2.0
PRODID:-//ChamberMaster//Event Calendar 2.0//EN
METHOD:PUBLISH
X-PUBLISHED-TTL:P3D
REFRESH-INTERVAL:P3D
CALSCALE:GREGORIAN
BEGIN:VEVENT
DTSTART:20220302T120000Z
DTEND:20220302T190000Z
X-MICROSOFT-CDO-ALLDAYEVENT:FALSE
SUMMARY:NMCCA Chamber Chomps - The Cracked Egg
DESCRIPTION:Our Chamber Chomps featured restaurant is The Cracked Egg in Brunswick (as announced on the Northern Medina County Chamber Alliance s Facebook and LinkedIn pages).\n\n\n\nPlease join Debbie\, Charlene and Isabelle at noon on Wednesday\, March 2nd at:\n\n\n\n1480 Pearl Rd. Brunswick\, Ohio\n\n\n\nThey are open 7am to 2pm on Wednesday s. Please show your support for restaurants in our area.\n\n\n\nSee you there!
X-ALT-DESC;FMTTYPE=text/html:Our Chamber Chomps featured restaurant is <em><a href="https://www.mycrackedegg.com/">The Cracked Egg</a></em> in Brunswick (as announced on the Northern Medina County Chamber Alliance s Facebook and LinkedIn pages).<br />\n<br />\nPlease join Debbie\, Charlene and Isabelle at noon on Wednesday\, March 2nd at:<br />\n<br />\n1480 Pearl Rd. Brunswick\, Ohio<br />\n<br />\nThey are open 7am to 2pm on Wednesday s. Please show your support for restaurants in our area.<br />\n<br />\nSee you there!
LOCATION:The Cracked Egg 1480 Pearl Rd. Brunswick\, OH 44212
UID:e.160.2917
SEQUENCE:3
DTSTAMP:20260420T051342Z
URL:https://members.nmccalliance.com/events/details/nmcca-chamber-chomps-the-cracked-egg-2917
END:VEVENT

END:VCALENDAR
