BEGIN:VCALENDAR
VERSION:2.0
PRODID:-//ChamberMaster//Event Calendar 2.0//EN
METHOD:PUBLISH
X-PUBLISHED-TTL:P3D
REFRESH-INTERVAL:P3D
CALSCALE:GREGORIAN
BEGIN:VEVENT
DTSTART:20211006T110000Z
DTEND:20211006T180000Z
X-MICROSOFT-CDO-ALLDAYEVENT:FALSE
SUMMARY:NMCCA Chamber Chomps - The Cracked Egg in Brunswick
DESCRIPTION:Our Chamber Chomps featured restaurant is The Cracked Egg in Brunswick (as announced on the Northern Medina County Chamber Alliance's Facebook and LinkedIn pages).\n\n \n\nPlease join Debbie\, Charlene\, and Isabelle at noon at:\n\n \n\n1480 Pearl Rd.\n\nBrunswick\, Ohio\n\n \n\nThey are open 7am to 2pm on Wednesday's. The Cracked Egg is offering members on Wednesday\, 10% off your order.\n\n \n\nPlease show your support for restaurants in our communities!\n\n \n\nHope to see you there!
X-ALT-DESC;FMTTYPE=text/html:<div style="color: rgb(130\, 84\, 33)\; font-family: Arial\, Verdana\, Helvetica\, sans-serif\; font-size: 14px\; white-space: pre-wrap\;"><br />\n<span style="font-family:arial\;"><span style="font-size:18px\;"><span style="color: rgb(0\, 0\, 0)\;">Our Chamber Chomps featured restaurant is </span><span style="font-size:20px\;"><a href="https://www.mycrackedegg.com/"><em><span style="color:#DAA520\;">The Cracked Egg</span></em></a></span><span style="color: rgb(0\, 0\, 0)\;"> </span></span><span style="color: rgb(0\, 0\, 0)\;"><span style="font-size:18px\;">in Brunswick&nbsp\;(as announced on the Northern Medina County Chamber Alliance&#39\;s</span>&nbsp\;</span><a href="http://r20.rs6.net/tn.jsp?f=001y-exzmLsxWtfdN1qUsriAvGcjyo-hVSdA_vAPxVwwpugj0oryNC87TFvSPde3B6CPeinsdaR2Y9pjgno4TUy_jkl21mRme4d7Q-wicI-oeVUIqiIoRxDhTrsO51kiALfEQxnhNdwQdmQFTr9yIlMp8sbMubAKluy5n2h9iIQ4cIavNF4LWyQ2katrq5Q2QYD&amp\;c=Po1PCcOY1jXyAvAjQzUNE3Mp2jPNSO4n6IfxRMhuJxyvlPTrWOSuFQ==&amp\;ch=v3lwogfjS07fU_6ctjy99rxYLE3JPgSiG1KQjsyl8fIC1HSLbePoEA==" rel="noopener noreferrer" style="color: rgb(0\, 0\, 0)\; text-decoration-line: none\; font-size: 18px\;" target="_blank">Facebook</a><span style="color: rgb(0\, 0\, 0)\;">&nbsp\;<span style="font-size:18px\;">and</span></span><a href="http://r20.rs6.net/tn.jsp?f=0010DUHt9A688tV8j0wRM7-Symr_PQRpjNWGWt234LyD59zENthio45rowsjT1_6-3QvovtmFmJph5Af9Aax4YacPPMru0WIEVRH9YgBCvttiGwQu2xIycP2r0TUmjI4kpzD2he-1tVUE4vif8bznvhOZphYR6vmFgxJDK6_IlmNdGYKw02rabqIhwAQt3zuoz90nKjZNpN07HrBjed4_HiqMDqO3P0OdeaNAmu8QPhkKuYCkMAtl4RAg==&amp\;c=W5xL7vmr5G0UAzSFdkSq-YFSZXbOj9Mq_Cgo6J3YO1uSEpsua9gREQ==&amp\;ch=cIThWjNSHXmx9Kfz5_CJY_WJIHE_eurb8IG_3BEi36eqk5kzK1QrPA==&amp\;jrc=1" rel="noopener noreferrer" style="color: rgb(0\, 0\, 0)\; text-decoration-line: none\; font-size: 18px\;" target="_blank">&nbsp\;LinkedIn&nbsp\;</a><span style="color: rgb(0\, 0\, 0)\;"><span style="font-size:18px\;">pages)</span>.</span></span></div>\n\n<div style="color: rgb(130\, 84\, 33)\; font-family: Arial\, Verdana\, Helvetica\, sans-serif\; font-size: 14px\; white-space: pre-wrap\;">&nbsp\;</div>\n\n<div style="color: rgb(130\, 84\, 33)\; font-family: Arial\, Verdana\, Helvetica\, sans-serif\; font-size: 14px\; white-space: pre-wrap\;"><span style="font-size: 18px\; color: rgb(0\, 0\, 0)\;">Please join Debbie\, Charlene\, and Isabelle&nbsp\;at noon at:</span><br />\n&nbsp\;</div>\n\n<div style="color: rgb(130\, 84\, 33)\; font-family: Arial\, Verdana\, Helvetica\, sans-serif\; font-size: 14px\; white-space: pre-wrap\; text-align: center\;"><span style="font-size: 18px\; color: rgb(0\, 0\, 0)\;">1480 Pearl Rd.</span></div>\n\n<div style="color: rgb(130\, 84\, 33)\; font-family: Arial\, Verdana\, Helvetica\, sans-serif\; font-size: 14px\; white-space: pre-wrap\; text-align: center\;"><span style="font-size: 18px\; color: rgb(0\, 0\, 0)\;">Brunswick\, Ohio</span><br />\n&nbsp\;</div>\n\n<div style="color: rgb(130\, 84\, 33)\; font-family: Arial\, Verdana\, Helvetica\, sans-serif\; font-size: 14px\; white-space: pre-wrap\;"><span style="font-size: 18px\; color: rgb(0\, 0\, 0)\;">They are open 7am to 2pm on Wednesday&#39\;s. </span><span style="font-size:20px\;"><a href="https://www.mycrackedegg.com/"><span style="color:#DAA520\;"><em>The Cracked Egg</em></span></a></span><span style="font-size: 18px\; color: rgb(32\, 33\, 36)\;"> is</span><span style="font-size: 24px\; color: rgb(32\, 33\, 36)\;"> </span><span style="font-size: 18px\; color: rgb(0\, 0\, 0)\;">offering members on Wednesday\, 10% off your order.</span></div>\n\n<div style="color: rgb(130\, 84\, 33)\; font-family: Arial\, Verdana\, Helvetica\, sans-serif\; font-size: 14px\; white-space: pre-wrap\;">&nbsp\;</div>\n\n<div style="color: rgb(130\, 84\, 33)\; font-family: Arial\, Verdana\, Helvetica\, sans-serif\; font-size: 14px\; white-space: pre-wrap\;"><span style="font-size: 18px\; color: rgb(0\, 0\, 0)\;">Please show your support for restaurants in our communities!</span></div>\n\n<div style="color: rgb(130\, 84\, 33)\; font-family: Arial\, Verdana\, Helvetica\, sans-serif\; font-size: 14px\; white-space: pre-wrap\;"><span style="font-size: 18px\; color: rgb(0\, 0\, 0)\;">&#65279\;</span></div>\n\n<div style="color: rgb(130\, 84\, 33)\; font-family: Arial\, Verdana\, Helvetica\, sans-serif\; font-size: 14px\; white-space: pre-wrap\;"><span style="font-size: 18px\; color: rgb(0\, 0\, 0)\;">Hope to see you there!</span></div>\n
LOCATION:1480 Pearl Rd. Brunswick\, OH
UID:e.160.2909
SEQUENCE:3
DTSTAMP:20260419T222620Z
URL:https://members.nmccalliance.com/events/details/nmcca-chamber-chomps-the-cracked-egg-in-brunswick-2909
END:VEVENT

END:VCALENDAR
