BEGIN:VCALENDAR
VERSION:2.0
PRODID:-//ChamberMaster//Event Calendar 2.0//EN
METHOD:PUBLISH
X-PUBLISHED-TTL:P3D
REFRESH-INTERVAL:P3D
CALSCALE:GREGORIAN
BEGIN:VEVENT
DTSTART:20210317T160000Z
DTEND:20210317T170000Z
X-MICROSOFT-CDO-ALLDAYEVENT:FALSE
SUMMARY:NMCCA Member Meeting: Alternative Workforce Strategies (panel discussion via Zoom)
DESCRIPTION:Alternative Workforce Strategies\n\n \n\nAlternative workplace strategies can be defined as "the combination of non-traditional work practices\, settings\, and locations that supplement or replace traditional offices."\n\nJoin us to learn unique strategies to help ensure building the needed workforce necessary to compete once the COVID 19 pandemic is under control.\n\n \n\nOur panel of local experts will share their unique programs and initiatives.\n\n \n\nKathy Breitenbucher\, Economic Developer\n\nMedina County Economic Development Corporation\n\n \n\nEd Dryer\, Director of Community Services\n\nMedina County Board of Developmental Disabilities\n\n \n\nBeth Ewing\, Employment/Vocational Specialist\n\nAlternative Paths\n\n \n\nJudge Joyce Kimbler\n\nMedina County Common Pleas Court\n\n\n\n( Login info will be sent once registered\, the Monday before event - please wear green for our St. Patty's Day member meeting)
X-ALT-DESC;FMTTYPE=text/html:<p class="x_x_MsoNormal" style="margin: 0in 0in 0.0001pt\; font-size: 11pt\; font-family: Calibri\, sans-serif\; color: rgb(32\, 31\, 30)\; background-color: rgb(255\, 255\, 255)\;">&nbsp\;</p>\n\n<p class="x_x_MsoNormal" style="margin: 0in 0in 0.0001pt\; font-size: 11pt\; font-family: Calibri\, sans-serif\; color: rgb(32\, 31\, 30)\; background-color: rgb(255\, 255\, 255)\;"><span style="font-size:22px\;"><b>Alternative Workforce Strategies</b></span><br />\n&nbsp\;</p>\n\n<p class="x_x_MsoNormal" style="margin: 0in 0in 0.0001pt\; font-size: 11pt\; font-family: Calibri\, sans-serif\; color: rgb(32\, 31\, 30)\; background-color: rgb(255\, 255\, 255)\;"><span style="font-size:18px\;">Alternative workplace strategies can be defined as &ldquo\;the combination of non-traditional work practices\, settings\, and locations that supplement or replace traditional offices.&rdquo\;</span></p>\n\n<p class="x_x_MsoNormal" style="margin: 0in 0in 0.0001pt\; font-size: 11pt\; font-family: Calibri\, sans-serif\; color: rgb(32\, 31\, 30)\; background-color: rgb(255\, 255\, 255)\;"><span style="font-size:18px\;">Join us to learn unique strategies to help ensure building the needed workforce necessary to compete once the COVID 19 pandemic is under control.</span></p>\n\n<p class="x_x_MsoNormal" style="margin: 0in 0in 0.0001pt\; font-size: 11pt\; font-family: Calibri\, sans-serif\; color: rgb(32\, 31\, 30)\; background-color: rgb(255\, 255\, 255)\;">&nbsp\;</p>\n\n<p class="x_x_MsoNormal" style="margin: 0in 0in 0.0001pt\; font-size: 11pt\; font-family: Calibri\, sans-serif\; color: rgb(32\, 31\, 30)\; background-color: rgb(255\, 255\, 255)\;"><span style="font-size:18px\;">Our panel of local experts will share their unique programs and initiatives.</span></p>\n\n<p class="x_x_MsoNormal" style="margin: 0in 0in 0.0001pt\; font-size: 11pt\; font-family: Calibri\, sans-serif\; color: rgb(32\, 31\, 30)\; background-color: rgb(255\, 255\, 255)\;">&nbsp\;</p>\n\n<p class="x_x_MsoNormal" style="margin: 0in 0in 0.0001pt\; font-size: 11pt\; font-family: Calibri\, sans-serif\; color: rgb(32\, 31\, 30)\; background-color: rgb(255\, 255\, 255)\;"><span style="font-size:18px\;">Kathy Breitenbucher\, Economic Developer</span></p>\n\n<p class="x_x_MsoNormal" style="margin: 0in 0in 0.0001pt\; font-size: 11pt\; font-family: Calibri\, sans-serif\; color: rgb(32\, 31\, 30)\; background-color: rgb(255\, 255\, 255)\;"><span style="font-size:18px\;">Medina County Economic Development Corporation</span></p>\n\n<p class="x_x_MsoNormal" style="margin: 0in 0in 0.0001pt\; font-size: 11pt\; font-family: Calibri\, sans-serif\; color: rgb(32\, 31\, 30)\; background-color: rgb(255\, 255\, 255)\;">&nbsp\;</p>\n\n<p class="x_x_MsoNormal" style="margin: 0in 0in 0.0001pt\; font-size: 11pt\; font-family: Calibri\, sans-serif\; color: rgb(32\, 31\, 30)\; background-color: rgb(255\, 255\, 255)\;"><span style="font-size:18px\;">Ed Dryer\, Director of Community Services</span></p>\n\n<p class="x_x_MsoNormal" style="margin: 0in 0in 0.0001pt\; font-size: 11pt\; font-family: Calibri\, sans-serif\; color: rgb(32\, 31\, 30)\; background-color: rgb(255\, 255\, 255)\;"><span style="font-size:18px\;">Medina County Board of Developmental Disabilities</span></p>\n\n<p class="x_x_MsoNormal" style="margin: 0in 0in 0.0001pt\; font-size: 11pt\; font-family: Calibri\, sans-serif\; color: rgb(32\, 31\, 30)\; background-color: rgb(255\, 255\, 255)\;">&nbsp\;</p>\n\n<p class="x_x_MsoNormal" style="margin: 0in 0in 0.0001pt\; font-size: 11pt\; font-family: Calibri\, sans-serif\; color: rgb(32\, 31\, 30)\; background-color: rgb(255\, 255\, 255)\;"><span style="font-size:18px\;">Beth Ewing\, Employment/Vocational Specialist</span></p>\n\n<p class="x_x_MsoNormal" style="margin: 0in 0in 0.0001pt\; font-size: 11pt\; font-family: Calibri\, sans-serif\; color: rgb(32\, 31\, 30)\; background-color: rgb(255\, 255\, 255)\;"><span style="font-size:18px\;">Alternative Paths</span></p>\n\n<p class="x_x_MsoNormal" style="margin: 0in 0in 0.0001pt\; font-size: 11pt\; font-family: Calibri\, sans-serif\; color: rgb(32\, 31\, 30)\; background-color: rgb(255\, 255\, 255)\;">&nbsp\;</p>\n\n<p class="x_x_MsoNormal" style="margin: 0in 0in 0.0001pt\; font-size: 11pt\; font-family: Calibri\, sans-serif\; color: rgb(32\, 31\, 30)\; background-color: rgb(255\, 255\, 255)\;"><span style="font-size:18px\;">Judge Joyce Kimbler</span></p>\n\n<p class="x_x_MsoNormal" style="margin: 0in 0in 0.0001pt\; background-color: rgb(255\, 255\, 255)\;"><font color="#201f1e" face="Calibri\, sans-serif" size="4">Medina County Common Pleas Court</font><br />\n<br />\n<font color="#201f1e" face="Calibri\, sans-serif" size="4">(&#8203\;Login info will be sent once registered\, the Monday&nbsp\;<span style="caret-color: rgb(32\, 31\, 30)\;">before</span>&nbsp\;event - please&nbsp\;wear </font><span style="color:#008000\;"><font face="Calibri\, sans-serif" size="4"><strong>green</strong></font></span><font color="#201f1e" face="Calibri\, sans-serif" size="4"> for our St. Patty&#39\;s Day member meeting)&nbsp\;</font></p>\n<br />\n<br />\n<br />\n&nbsp\;
LOCATION:
UID:e.160.2860
SEQUENCE:3
DTSTAMP:20260422T100654Z
URL:https://members.nmccalliance.com/events/details/nmcca-member-meeting-alternative-workforce-strategies-panel-discussion-via-zoom-2860
END:VEVENT

END:VCALENDAR
