BEGIN:VCALENDAR
VERSION:2.0
PRODID:-//ChamberMaster//Event Calendar 2.0//EN
METHOD:PUBLISH
X-PUBLISHED-TTL:P3D
REFRESH-INTERVAL:P3D
CALSCALE:GREGORIAN
BEGIN:VEVENT
DTSTART:20210421T160000Z
DTEND:20210421T170000Z
X-MICROSOFT-CDO-ALLDAYEVENT:FALSE
SUMMARY:NMCCA Member Meeting: City & Township Update/Brunswick\, Brunswick Hills\, Liverpool Twp\, Valley City & Hinckley
DESCRIPTION:Don't miss the City & Township Update via Zoom on April 21st. From infrastructure improvements to public services our area representatives balance the health\, safety and success of both residents and businesses. Join us as the city and township leaders in the Northern tier of Medina County share their challenges\, growth and vision for each region. test
X-ALT-DESC;FMTTYPE=text/html:<br />\n<span style="font-size:20px\;"><span style="color: rgb(51\, 51\, 51)\; font-family: arial\; background-color: rgb(255\, 255\, 255)\;">Don&rsquo\;t miss the City &amp\; Township Update via Zoom&nbsp\;on April 21st</span></span><span style="color: rgb(51\, 51\, 51)\; font-family: arial\; font-size: 14px\; background-color: rgb(255\, 255\, 255)\;"><span style="font-size:20px\;">. From infrastructure improvements to public services our area representatives balance the health\, safety and success of both residents and businesses. Join us as the city and township leaders in the Northern tier of Medina County share their challenges\, growth and vision for each region</span>. test</span>
LOCATION:
UID:e.160.2861
SEQUENCE:3
DTSTAMP:20260420T072145Z
URL:https://members.nmccalliance.com/events/details/nmcca-member-meeting-city-township-update-brunswick-brunswick-hills-liverpool-twp-valley-city-hinckley-2861
END:VEVENT

END:VCALENDAR
