BEGIN:VCALENDAR
VERSION:2.0
PRODID:-//ChamberMaster//Event Calendar 2.0//EN
METHOD:PUBLISH
X-PUBLISHED-TTL:P3D
REFRESH-INTERVAL:P3D
CALSCALE:GREGORIAN
BEGIN:VEVENT
DTSTART:20210217T170000Z
DTEND:20210217T180000Z
X-MICROSOFT-CDO-ALLDAYEVENT:FALSE
SUMMARY:NMCCA Member Meeting: Economic Development in the Northern Tier/Grant Aungst & Bethany Dentler
DESCRIPTION:February Member Meeting\n\n \n\nLocal Economic Develop Update .What's on the Horizon?\n\n \n\nThe Northern Medina County Chamber Alliance remains committed to strengthening our community by providing ongoing communication for members doing business in the Northern Medina County area.\n\n \n\nDuring this uncertain time of the COVID-19 pandemic\, our local economic development professionals continue to work diligently to serve the business community.\n\n \n\nWe hope you can join us during the next member meeting to hear from Grant Aungst\, Community & Economic Development Director for the City of Brunswick and Bethany Dentler\, Executive Director of the Medina County Economic Development Corporation. Both will both provide a comprehensive Economic Development update for the region\; Hinckley\, Brunswick\, Brunswick Hills\, and Valley City. \n\n \n\nLearn how the region continues to thrive\, what resources available for business owners\, and get your questions answered.
X-ALT-DESC;FMTTYPE=text/html:<p class="x_x_MsoNormal" style="margin: 0in 0in 0.0001pt\; font-size: 11pt\; font-family: Calibri\, sans-serif\; color: rgb(32\, 31\, 30)\;"><span style="font-size:22px\;"><b>February Member Meeting</b></span><br />\n&nbsp\;</p>\n\n<p class="x_x_MsoNormal" style="margin: 0in 0in 0.0001pt\; font-size: 11pt\; font-family: Calibri\, sans-serif\; color: rgb(32\, 31\, 30)\;"><span style="font-size:18px\;">Local Economic Develop Update&hellip\;.What&rsquo\;s on the Horizon?</span></p>\n\n<p class="x_x_MsoNormal" style="margin: 0in 0in 0.0001pt\; font-size: 11pt\; font-family: Calibri\, sans-serif\; color: rgb(32\, 31\, 30)\;">&nbsp\;</p>\n\n<p class="x_x_MsoNormal" style="margin: 0in 0in 0.0001pt\; font-size: 11pt\; font-family: Calibri\, sans-serif\; color: rgb(32\, 31\, 30)\;"><span style="font-size:18px\;">The Northern Medina County Chamber Alliance remains committed to strengthening our community by providing ongoing communication for members doing business in the Northern Medina County area.</span></p>\n\n<p class="x_x_MsoNormal" style="margin: 0in 0in 0.0001pt\; font-size: 11pt\; font-family: Calibri\, sans-serif\; color: rgb(32\, 31\, 30)\;">&nbsp\;</p>\n\n<p class="x_x_MsoNormal" style="margin: 0in 0in 0.0001pt\; font-size: 11pt\; font-family: Calibri\, sans-serif\; color: rgb(32\, 31\, 30)\;"><span style="font-size:18px\;">During this uncertain time of the COVID-19 pandemic\, our local economic development professionals continue to work diligently to serve the business community.</span></p>\n\n<p class="x_x_MsoNormal" style="margin: 0in 0in 0.0001pt\; font-size: 11pt\; font-family: Calibri\, sans-serif\; color: rgb(32\, 31\, 30)\;">&nbsp\;</p>\n\n<p class="x_x_MsoNormal" style="margin: 0in 0in 0.0001pt\; font-size: 11pt\; font-family: Calibri\, sans-serif\; color: rgb(32\, 31\, 30)\;"><span style="font-size:18px\;">We hope you can join us during the next member meeting to hear from Grant Aungst\, Community &amp\; Economic Development Director for the City of Brunswick and Bethany Dentler\, Executive Director of the Medina County Economic Development Corporation. Both will both provide a comprehensive Economic Development update for the region\; Hinckley\, Brunswick\, Brunswick Hills\, and Valley City.&nbsp\;</span></p>\n\n<p class="x_x_MsoNormal" style="margin: 0in 0in 0.0001pt\; font-size: 11pt\; font-family: Calibri\, sans-serif\; color: rgb(32\, 31\, 30)\;">&nbsp\;</p>\n\n<p class="x_x_MsoNormal" style="margin: 0in 0in 0.0001pt\; font-size: 11pt\; font-family: Calibri\, sans-serif\; color: rgb(32\, 31\, 30)\;"><span style="font-size:18px\;">Learn how the region continues to thrive\, what resources available for business owners\, and get your questions answered.</span></p>\n
LOCATION:
UID:e.160.2859
SEQUENCE:3
DTSTAMP:20260422T112418Z
URL:https://members.nmccalliance.com/events/details/nmcca-member-meeting-economic-development-in-the-northern-tier-grant-aungst-bethany-dentler-2859
END:VEVENT

END:VCALENDAR
