BEGIN:VCALENDAR
VERSION:2.0
PRODID:-//ChamberMaster//Event Calendar 2.0//EN
METHOD:PUBLISH
X-PUBLISHED-TTL:P3D
REFRESH-INTERVAL:P3D
CALSCALE:GREGORIAN
BEGIN:VEVENT
DTSTART:20210519T160000Z
DTEND:20210519T170000Z
X-MICROSOFT-CDO-ALLDAYEVENT:FALSE
SUMMARY:NMCCA Member Meeting - Entrepreneur Showcase with Joe Pulizzi
DESCRIPTION:Member Meeting with Joe Pulizzi\n\n\n\nBusiness leaders that engage in some type of online marketing have probably heard of the term\, Content Marketing.  Join your fellow chamber members as we learn more about the professional and personal journey of the Godfather of Content Marketing\, Joe Pulizzi.\n\n\n\nWhat's so interesting about Joe?\n\n	Founded several companies - one of which\, Content Marketing Institute\, sold $17.6 million in 2016.\n	Launched dozens of events including Content Marketing World\, which attracts about 4\,000 people to Cleveland each year from across 40+ countries\, featuring well-known keynote speakers such as Tina Fey and William Shatner.\n\nAmazon bestselling author of several titles\, with his Epic Content Marketing named a "Must-Read Business Book" by Fortune Magazine.\n\n\n\nJoin us on May 19th as we get to know Joe and hear the challenges and triumphs he has experienced so far throughout his professional journey.
X-ALT-DESC;FMTTYPE=text/html:<span style="font-size:16px\;"><strong>Member Meeting with Joe Pulizzi</strong></span><br />\n<br />\n<span style="font-size:16px\;">Business leaders that engage in some type of online marketing have probably heard of the term\, Content Marketing.&nbsp\; Join your fellow chamber members as we learn more about the professional and personal journey of the Godfather of Content Marketing\, Joe Pulizzi.<br />\n<br />\nWhat&#39\;s so interesting about Joe?</span>\n<ul>\n	<li><span style="font-size:16px\;">Founded several companies - one of which\, Content Marketing Institute\, sold $17.6 million in 2016.</span></li>\n	<li><span style="font-size:16px\;">Launched dozens of events including Content Marketing World\, which attracts about&nbsp\;4\,000 people to Cleveland each year from across 40+ countries\, featuring well-known keynote speakers such as Tina Fey and William Shatner.</span></li>\n</ul>\n<span style="font-size:16px\;">Amazon bestselling author of several titles\, with his&nbsp\;<em>Epic Content Marketing&nbsp\;</em>named a &quot\;Must-Read Business Book&quot\; by Fortune Magazine.<br />\n<br />\nJoin us on May 19th as we get to know Joe and hear the challenges and triumphs he has experienced so far throughout his professional journey.</span><br />\n&nbsp\;\n<div style="margin: 0px\; padding: 0px\; border: 0px\; font-variant-numeric: inherit\; font-variant-east-asian: inherit\; font-stretch: inherit\; font-size: 12pt\; line-height: inherit\; font-family: Calibri\, Arial\, Helvetica\, sans-serif\; vertical-align: baseline\; background-color: rgb(255\, 255\, 255)\;">\n<div style="margin: 0px\; padding: 0px\; border: 0px\; font: inherit\; vertical-align: baseline\; color: inherit\;">&nbsp\;</div>\n</div>\n
LOCATION:
UID:e.160.2866
SEQUENCE:3
DTSTAMP:20260420T051822Z
URL:https://members.nmccalliance.com/events/details/nmcca-member-meeting-entrepreneur-showcase-with-joe-pulizzi-2866
END:VEVENT

END:VCALENDAR
