BEGIN:VCALENDAR
VERSION:2.0
PRODID:-//ChamberMaster//Event Calendar 2.0//EN
METHOD:PUBLISH
X-PUBLISHED-TTL:P3D
REFRESH-INTERVAL:P3D
CALSCALE:GREGORIAN
BEGIN:VEVENT
DTSTART:20210617T120000Z
DTEND:20210617T233000Z
X-MICROSOFT-CDO-ALLDAYEVENT:FALSE
SUMMARY:NMCCA Saddle Up Country/Western Golf Outing + Hootenanny Presented by DOLLAR BANK
DESCRIPTION:Looking forward to a great event - see you tomorrow....\n\n\n\nGet Gussied Up in your Finest Western Gear for Prizes and Fun (boots not allowed on golf course)\n\n\n\nFoursome early-bird (by June 1st) $396 - SOLD OUT\n\nGolfers - early bird (by June 1st)    $99 - SOLD OUT\n\n\n\nDinner & Hootenanny          $30\n\n\n\nYOUR ENTRY INCLUDES:\n\n\n\n  Greens Fee & Cart\n\n  Bloody Mary & Mimosa Breakfast \n\n  Boxed Lunch & Plated Dinner\n\n  Sponsored Skill Contests:\n\n        Skins & Mulligans (SOLD SEPARATELY)\n\n  Keepsake Gifts\n\n  Hootenanny After Party with lots of raffle items to win\n\n\n\nAGENDA\n\n\n\n8:30 AM Check-In\n\n9:00-10:00 AM Bloody Mary & Mimosa Breakfast\n\n10:00 AM Tee-Off\n\n3:00-6:00 PM (Socially Distanced) Hootenanny\n\n\n\nBE A SPONSOR\n\n\n\nEXCLUSIVE 'Back Stage Passes' Sponsor (1) $1\,000  SOLD TO MEDINA FIBER Company logo at the Hootenanny\, recognition in all promotion & advertising (includes 4 party tickets)\n\n\n\nEXCLUSIVE 'Buy Me a Drink' Sponsor (1) $750  SOLD TO THE KRISTIN BAUM TEAM/REMAX CROSSROADS  Company logo at Bloody Mary & Mimosa Breakfast Station\, recognition in all promotion & advertising \n\n\n\nEXCLUSIVE 'Cold Beer Conversation' Keg Sponsor (1) $500 SOLD TO MEDINA FIBER Company logo at Keg Station\, recognition in all promotion & advertising \n\n  \n\nEXCLUSIVE 'Good Eatin' Lunch Sponsor (1) $500    SOLD TO WESTFIELD BANK Company logo at the turn for lunch\, recognition in all promotion & advertising \n\n\n\nEXCLUSIVE 'Whiskey Glasses' Putting Contest Sponsor (1) $500  SOLD TO HOMESTEAD INSURANCE AGENCY\, INC. Company logo during putting contest\, recognition in all promotion & advertising \n\n\n\nEXCLUSIVE 'Red Solo Cup' Proximities Hole Sponsor (1) $500  SOLD TO WAITE & SON FUNERAL HOMES Company logo on all proximity holes (4)\n\n\n\nEXCLUSIVE Photo Booth Sponsor (1) $500  SOLD TO  BULLSEYE ACTIVEWEAR AND PROMOTIONS\n\n\n\nEXCLUSIVE 'Sweet Dessert' Sponsor (1) $500 SOLD TO RITO'S BAKERY  Company logo at dessert table during social\, recognition in all promotion & advertising \n\n\n\nPar-TEE @ PAR 3 Sponsor (1 left) $500  SOLD TO DOLLAR BANK\, GROSS INVESTMENTS\, CARSTAR\, MEDINA MEADOWS  Host a shindig for the day at a par 3 hole\, providing a County Western Theme (21 and older)\, recognition in all promotion & advertising \n\n\n\nCOWBOY CART Sponsor $400- SOLD TO ARMBRUSTER MOVING & STORAGE\, FIRST FEDERAL LAKEWOOD\, PEARLVIEW REHAB & WELLNESS AND DANBURY SENIOR LIVING IN BRUNSWICK Staff a courtesy golf cart for the day providing your own snacks and/or swag to the golfers (21 & older)\,  recognition in all promotion & advertising \n\n\n\nHole and One Sponsor $300 SOLD TO OHIO BUSINESS MACHINES\n\n\n\nTee/Hole Sponsor (unlimited) $125\n\nTee/Hole Sponsor Renewal (unlimited)  $100\n\n\n\n Click here for Registration form  \n\n \nShout out to our Tee Hole Sponsors:\n\n\n\nDollar Bank\n\nHuntington Bank\n\nMDG Flooring America\n\nGoosefoot Acres Inc. - Home of Dandy Blend\n\nSouthwest General Health Center\n\nTransitional Living Centers\n\nPNC Bank\n\nWeymouth Country Club\n\nTAB Property Enhancement\n\nHomestead Insurance Agency\, Inc.\n\nCity of Brunswick\n\nGerber Collision & Glass\n\nMedina County Fiber Network\n\nDanbury Senior Living Brunswick\n\nCuyahoga Community College/Brunswick University Center\n\nPearlview Rehab & Wellness\n\nBunker Hill Golf Club\n\nFirst Federal Lakewood\n\nProximity Marketing\n\nBauer Funeral Home (2)\n\nHarding & Jacob Insurance Agency\n\nEngelke Construction Solutions LLC\n\nPhilpott Rubber Company\n\nRay Fogg Corporation Properties\n\nMonitoronics\n\nBuffalo Wild Wings\n\nDog Gone Crazy\n\nSedgwick\n\nAll Construction\n\nImage Builders\n\nJud's Best Auto Service Medina\n\nTransfer Title\n\nSVL&D CPA\, Inc. dba Thomas Steinke\, CPA\n\nAltenheim Senior Living\n\nSurety HR - A PEO Firm
X-ALT-DESC;FMTTYPE=text/html:<span style="font-family:comic sans ms\;"><span style="font-size:20px\;">Looking forward to a great event - see you tomorrow....</span></span><br />\n<br />\n<span style="font-family: comic sans ms\;"><span style="color: rgb(255\, 0\, 0)\;"><span style="font-size: 18px\;"><strong><span style="font-size: 20px\;">Get Gussied Up in your Finest Western Gear for Prizes and Fun </span></strong><span style="font-size: 20px\;">(boots not allowed on golf course)</span></span></span><br />\n<br />\nFoursome early-bird (by June 1st) $396 - <strong><span style="color:#FF0000\;">SOLD OUT</span></strong><br />\nGolfers - early bird (by June 1st)&nbsp\; &nbsp\; $99 - <strong><span style="color:#FF0000\;">SOLD OUT</span></strong><br />\n<br />\n<strong>Dinner &amp\; Hootenanny&nbsp\; &nbsp\; &nbsp\; &nbsp\; &nbsp\; $30</strong></span><br />\n<br />\n<span style="color: rgb(255\, 0\, 0)\;"><strong><span style="font-size: 18px\;"><span style="font-family: comic sans ms\;">YOUR ENTRY INCLUDES:</span></span></strong></span><br />\n<br />\n&bull\; <span style="font-family: comic sans ms\;">Greens Fee &amp\; Cart<br />\n&bull\; Bloody Mary &amp\; Mimosa Breakfast&nbsp\;<br />\n&bull\; Boxed Lunch &amp\; Plated Dinner<br />\n&bull\; Sponsored Skill Contests:<br />\n&nbsp\; &nbsp\; &nbsp\; &nbsp\; Skins &amp\; Mulligans (SOLD SEPARATELY)<br />\n&bull\; Keepsake Gifts<br />\n&bull\; Hootenanny After Party with lots of raffle items to win</span><br />\n<br />\n<span style="font-family: comic sans ms\;"><span style="color: rgb(255\, 0\, 0)\;"><strong><span style="font-size: 18px\;">AGENDA</span></strong></span><br />\n<br />\n8:30 AM Check-In<br />\n9:00-10:00 AM Bloody Mary &amp\; Mimosa Breakfast<br />\n10:00 AM Tee-Off<br />\n3:00-6:00 PM (Socially Distanced) Hootenanny<br />\n<br />\n<span style="color: rgb(255\, 0\, 0)\;"><span style="font-size: 18px\;"><strong>BE A SPONSOR</strong></span></span></span><br />\n<br />\n<s><span style="color: rgb(0\, 0\, 205)\;"><em><span style="font-size: 18px\;"><strong><span style="font-size: 14px\;"><span style="font-size: 16px\;">EXCLUSIVE &#39\;Back Stage Passes&#39\; Sponsor (1) $1\,000</span></span></strong></span></em></span></s><span style="font-family: comic sans ms\;"><span style="font-size: 18px\;"><strong><span style="color: rgb(128\, 0\, 0)\;"><em><span style="font-size: 14px\;">&nbsp\;</span></em></span><span style="color: rgb(128\, 0\, 0)\;"><em><span style="font-size: 14px\;">&nbsp\;</span></em></span></strong></span></span><strong comic="" sans=""><span style="color: rgb(255\, 0\, 0)\;"><em><span style="font-size: 14px\;"><span style="font-size: 16px\;">SOLD TO MEDINA FIBER&nbsp\;</span></span></em></span></strong><span style="font-family: comic sans ms\;"><span style="font-size: 18px\;"><span style="color: rgb(128\, 0\, 0)\;"><span style="font-size: 14px\;">Company logo at the Hootenanny\, recognition in all promotion &amp\; advertising (includes 4 party tickets)</span></span></span></span><br />\n<br />\n<strong comic="" sans="" style="color: rgb(51\, 51\, 51)\; font-family:\;"><span style="color: rgb(0\, 0\, 205)\;"><em><span style="font-size: 14px\;"><span style="font-size: 16px\;"><s>EXCLUSIVE &#39\;Buy Me a Drink&#39\; Sponsor (1) $750</s>&nbsp\;&nbsp\;</span></span></em></span></strong><strong comic="" font-size:="" sans="" style="color: rgb(51\, 51\, 51)\; font-family: sans-serif\, Arial\, Verdana\, " trebuchet=""><span style="color: rgb(255\, 0\, 0)\;"><em><span style="font-size: 14px\;"><span style="font-size: 16px\;">SOLD TO THE KRISTIN BAUM TEAM/REMAX CROSSROADS</span></span></em></span></strong><strong comic="" sans="" style="color: rgb(51\, 51\, 51)\; font-family:\;"><span style="color: rgb(128\, 0\, 0)\;"><em><span style="font-size: 14px\;"><span style="font-size: 16px\;">&nbsp\;&nbsp\;</span></span></em></span></strong><span style="font-size: 14px\;"><span style="font-family: comic sans ms\;"><span comic="" sans="" style="color: rgb(128\, 0\, 0)\; font-family:\;">Company logo at Bloody Mary &amp\; Mimosa Breakfast Station\, recognition in all promotion &amp\; advertising&nbsp\;</span></span></span><br />\n<br />\n<strong comic="" sans="" style="color: rgb(51\, 51\, 51)\; font-family:\; background-color: rgb(255\, 255\, 255)\;"><span style="color: rgb(0\, 0\, 205)\;"><em><span style="font-size: 14px\;"><span style="font-size: 16px\;"><s>EXCLUSIVE &#39\;Cold Beer Conversation&#39\; Keg Sponsor (1) $500</s> </span></span></em></span><span style="color: rgb(255\, 0\, 0)\;"><em><span style="font-size: 14px\;"><span style="font-size: 16px\;">SOLD TO MEDINA FIBER</span></span></em></span><span style="color: rgb(128\, 0\, 0)\;"><em><span style="font-size: 14px\;"><span style="font-size: 16px\;">&nbsp\;</span></span></em></span></strong><span style="font-size: 14px\;"><span style="font-family: comic sans ms\;"><span comic="" sans="" style="color: rgb(128\, 0\, 0)\; font-family:\;">Company logo at Keg Station\, recognition in all promotion &amp\; advertising&nbsp\;</span></span></span><br />\n&nbsp\;&nbsp\;<br />\n<strong comic="" sans="" style="color: rgb(51\, 51\, 51)\; font-family:\; background-color: rgb(255\, 255\, 255)\;"><s><span style="color: rgb(0\, 0\, 205)\;"><em><span style="font-size: 14px\;"><span style="font-size: 16px\;">EXCLUSIVE &#39\;Good Eatin&#39\; Lunch Sponsor (1) $500</span></span></em></span></s><span style="color: rgb(128\, 0\, 0)\;"><em><span style="font-size: 14px\;"><span style="font-size: 16px\;">&nbsp\; &nbsp\; </span></span></em></span><span style="color: rgb(255\, 0\, 0)\;"><em><span style="font-size: 14px\;"><span style="font-size: 16px\;">SOLD TO WESTFIELD BANK&nbsp\;</span></span></em></span></strong><span style="font-family: comic sans ms\;"><span style="font-size: 14px\;"><span comic="" sans="" style="color: rgb(128\, 0\, 0)\; font-family:\;">Company logo at the turn for lunch\, recognition in all promotion &amp\; advertising&nbsp\;</span></span></span><br />\n<br />\n<strong comic="" sans="" style="color: rgb(51\, 51\, 51)\; font-family: sans-serif\, Arial\, Verdana\,\;" trebuchet=""><span style="color: rgb(0\, 0\, 205)\;"><em><span style="font-size: 14px\;"><span style="font-size: 16px\;">EXCLUSIVE &#39\;<s>Whiskey Glasses&#39\; Putting Contest Sponsor (1) $500</s></span></span></em></span><span style="color: rgb(128\, 0\, 0)\;"><em><span style="font-size: 14px\;"><span style="font-size: 16px\;">&nbsp\;</span></span></em></span><span style="color: rgb(255\, 0\, 0)\;"><em><span style="font-size: 14px\;"><span style="font-size: 16px\;"> </span></span></em><em><span style="font-size: 14px\;"><span style="font-size: 16px\;">SOLD TO HOMESTEAD INSURANCE AGENCY\, INC.</span></span></em></span><span style="color: rgb(128\, 0\, 0)\;"><em><span style="font-size: 14px\;"><span style="font-size: 16px\;">&nbsp\;</span></span></em></span></strong><span style="font-size: 14px\;"><span style="font-family: comic sans ms\;"><span style="color: rgb(128\, 0\, 0)\; font-family: sans-serif\, Arial\, Verdana\,\;" trebuchet="">Company logo during putting contest\, recognition in all promotion &amp\; advertising&nbsp\;</span></span></span><br />\n<br />\n<strong comic="" sans="" style="color: rgb(51\, 51\, 51)\; font-family: sans-serif\, Arial\, Verdana\,\;" trebuchet=""><span style="color: rgb(0\, 0\, 205)\;"><em><span style="font-size: 14px\;"><span style="font-size: 16px\;">EXCLUSIVE <s>&#39\;Red Solo Cup&#39\; Proximities Hole Sponsor (1) $500</s></span></span></em></span><em><span style="font-size: 14px\;"><span style="font-size: 16px\;">&nbsp\; <span style="color: rgb(255\, 0\, 0)\;">SOLD TO WAITE &amp\; SON FUNERAL HOMES</span>&nbsp\;</span></span></em></strong><span style="font-family: comic sans ms\;"><span style="font-size: 14px\;"><span style="color: rgb(128\, 0\, 0)\; font-family: sans-serif\, Arial\, Verdana\,\;" trebuchet="">Company logo on all proximity holes (4)</span></span></span><br />\n<br />\n<strong comic="" font-size:="" sans="" style="color: rgb(51\, 51\, 51)\; font-family: sans-serif\, Arial\, Verdana\, " trebuchet=""><span style="color: rgb(0\, 0\, 205)\;"><em><span style="font-size: 14px\;"><span style="font-size: 16px\;">EXCLUSIVE&nbsp\;<s>Photo Booth Sponsor (1) $500</s></span></span></em></span><em><span style="font-size: 14px\;"><span style="font-size: 16px\;">&nbsp\;&nbsp\;<span style="color: rgb(255\, 0\, 0)\;">SOLD TO&nbsp\; BULLSEYE ACTIVEWEAR AND PROMOTIONS</span></span></span></em></strong><br />\n<br />\n<strong comic="" sans="" style="color: rgb(51\, 51\, 51)\; font-family: sans-serif\, Arial\, Verdana\,\;" trebuchet=""><s><span style="color: rgb(0\, 0\, 205)\;"><em><span style="font-size: 14px\;"><span style="font-size: 16px\;">EXCLUSIVE &#39\;Sweet Dessert&#39\; Sponsor (1) $500</span></span></em></span></s><span style="color: rgb(128\, 0\, 0)\;"><em><span style="font-size: 14px\;"><span style="font-size: 16px\;">&nbsp\;</span></span></em></span><span style="color: rgb(255\, 0\, 0)\;"><em><span style="font-size: 14px\;"><span style="font-size: 16px\;">SOLD TO RITO&#39\;S BAKERY</span></span></em></span><span style="color: rgb(178\, 34\, 34)\;"><em><span style="font-size: 14px\;"><span style="font-size: 16px\;">&nbsp\;&nbsp\;</span></span></em></span></strong><span style="font-family: comic sans ms\;"><span style="font-size: 14px\;"><span style="color: rgb(128\, 0\, 0)\; font-family: sans-serif\, Arial\, Verdana\,\;" trebuchet="">Company logo at dessert table during social\, recognition in all promotion &amp\; advertising&nbsp\;</span></span></span><br />\n<br />\n<strong comic="" sans="" trebuchet=""><span style="color: rgb(0\, 0\, 205)\;"><em><span style="font-size: 14px\;"><span style="font-size: 16px\;">Par-TEE @ PAR 3 Sponsor (1 left) $500</span></span></em></span><font size="3" style="color: rgb(128\, 0\, 0)\;"><i>&nbsp\; </i></font></strong><em><strong comic="" sans="" trebuchet=""><font size="3" style="color: rgb(128\, 0\, 0)\;"><span style="color: rgb(255\, 0\, 0)\;">SOLD TO DOLLAR BANK\, GROSS INVESTMENTS\, CARSTAR\, MEDINA MEADOWS</span><span style="color: rgb(0\, 0\, 255)\;">&nbsp\;</span></font></strong></em><strong comic="" sans="" trebuchet=""><font size="3" style="color: rgb(128\, 0\, 0)\;"><i>&nbsp\;</i></font></strong><span style="font-family: comic sans ms\;"><span comic="" sans="" style="color: rgb(51\, 51\, 51)\; font-family:\; font-size: 13px\;"><span style="font-size: 14px\;"><span style="color: rgb(128\, 0\, 0)\;" trebuchet="">Host a shindig for the day at a par 3 hole\, providing a County Western Theme (21 and older)\,&nbsp\;recognition in all promotion &amp\; advertising&nbsp\;</span></span></span></span><br />\n<br />\n<strong comic="" sans="" style="color: rgb(51\, 51\, 51)\; font-family: sans-serif\, Arial\, Verdana\,\;" trebuchet=""><span style="color: rgb(0\, 0\, 205)\;"><em><span style="font-size: 14px\;"><span style="font-size: 16px\;"><s>COWBOY CART Sponsor $400</s>- </span></span></em></span><span style="color: rgb(255\, 0\, 0)\;"><em><span style="font-size: 14px\;"><span style="font-size: 16px\;">SOLD TO ARMBRUSTER MOVING &amp\; STORAGE\, FIRST FEDERAL LAKEWOOD\, PEARLVIEW REHAB &amp\; WELLNESS AND DANBURY SENIOR LIVING IN BRUNSWICK</span></span></em></span><span style="color: rgb(128\, 0\, 0)\;"><em><span style="font-size: 14px\;"><span style="font-size: 16px\;">&nbsp\;</span></span></em></span></strong><span style="font-family: comic sans ms\;"><span comic="" sans="" style="color: rgb(51\, 51\, 51)\; font-family:\; font-size: 13px\;"><span style="font-size: 14px\;"><span style="color: rgb(128\, 0\, 0)\;" trebuchet="">Staff a courtesy golf cart for the day providing your own snacks and/or swag to the golfers (21 &amp\; older)\,&nbsp\; recognition in all promotion &amp\; advertising&nbsp\;</span></span></span></span><br />\n<br />\n<strong comic="" font-size:="" sans="" style="color: rgb(51\, 51\, 51)\; font-family: sans-serif\, Arial\, Verdana\, " trebuchet=""><span style="color: rgb(0\, 0\, 205)\;"><em><span style="font-size: 14px\;"><span style="font-size: 16px\;"><s>Hole and One Sponsor $300 </s></span></span></em></span><span style="color:#FF0000\;"><em><span style="font-size: 14px\;"><span style="font-size: 16px\;">SOLD TO OHIO BUSINESS MACHINES</span></span></em></span></strong><br />\n<br />\n<strong comic="" sans="" style="color: rgb(51\, 51\, 51)\; font-family: sans-serif\, Arial\, Verdana\,\;" trebuchet=""><span style="color: rgb(0\, 0\, 205)\;"><em><span style="font-size: 14px\;"><span style="font-size: 16px\;">Tee/Hole Sponsor (unlimited) $125<br />\nTee/Hole Sponsor Renewal (unlimited)&nbsp\; $100</span></span></em></span><br />\n<br />\n<em><span style="font-size: 14px\;"><span style="font-size: 16px\;"><a href="https://chambermaster.blob.core.windows.net/userfiles/UserFiles/chambers/160/File/NMCCASADDLEUPHOOTENANNYGOLFOUTING6.17.2021.pdf"><span style="color:#FF0000\;">&#8203\;</span></a><a href="https://chambermaster.blob.core.windows.net/userfiles/UserFiles/chambers/160/File/NMCCAGolf2021.pdf"><span style="color:#FF0000\;">Click here for Registration form&nbsp\;</span></a><span style="color:#FF0000\;">&nbsp\;</span></span></span></em></strong><br />\n&nbsp\;\n<div style="text-align: center\;"><strong comic="" sans="" style="color: rgb(51\, 51\, 51)\; font-family: sans-serif\, Arial\, Verdana\,\;" trebuchet=""><span style="color: rgb(0\, 0\, 205)\;"><em><span style="font-size: 14px\;"><span style="font-size: 16px\;"><span style="font-size:18px\;">Shout out to our Tee Hole Sponsors:</span></span></span></em></span></strong><br />\n<br />\n<span style="color:#FF0000\;"><span style="font-size:14px\;"><em><span style="font-size:16px\;">Dollar Bank<br />\nHuntington Bank<br />\nMDG Flooring America<br />\nGoosefoot Acres Inc. -&nbsp\;Home of Dandy Blend<br />\nSouthwest General Health Center</span><br />\n<span style="font-size:16px\;">Transitional Living Cen</span></em><span style="font-size:16px\;">ters<br />\n<em>PNC Bank<br />\nWeymouth Country Club<br />\nTAB Property Enhancement<br />\nHomestead Insurance Agency\, Inc.<br />\nCity of Brunswick<br />\nGerber Collision &amp\; Glass<br />\nMedina County Fiber Network<br />\nDanbury Senior Living Brunswick<br />\nCuyahoga Community College/Brunswick University Center<br />\nPearlview Rehab &amp\; Wellness<br />\nBunker Hill Golf Club<br />\nFirst Federal Lakewood<br />\nProximity Marketing<br />\nBauer Funeral Home (2)<br />\nHarding &amp\; Jacob Insurance Agency<br />\nEngelke Construction Solutions LLC<br />\nPhilpott Rubber Company<br />\nRay Fogg Corporation Properties<br />\nMonitoronics<br />\nBuffalo Wild Wings<br />\nDog Gone Crazy<br />\nSedgwick<br />\nAll Construction<br />\nImage Builders<br />\nJud&#39\;s Best Auto Service Medina<br />\nTransfer Title</em></span></span><br />\n<em><span style="font-size:16px\;">SVL&amp\;D CPA\, Inc. dba Thomas Steinke\, CPA<br />\nAltenheim Senior&nbsp\;</span></em></span><font color="#ff0000" size="3"><span style="caret-color: rgb(255\, 0\, 0)\;"><i>Living<br />\nSurety HR - A PEO Firm</i></span></font><br />\n&nbsp\;</div>\n
LOCATION:Coppertop Golf Club 5740 Center Rd. Valley City\, OH 44280
UID:e.160.2872
SEQUENCE:3
DTSTAMP:20260420T033404Z
URL:https://members.nmccalliance.com/events/details/nmcca-saddle-up-country-western-golf-outing-hootenanny-presented-by-dollar-bank-2872
END:VEVENT

END:VCALENDAR
