BEGIN:VCALENDAR
VERSION:2.0
PRODID:-//ChamberMaster//Event Calendar 2.0//EN
METHOD:PUBLISH
X-PUBLISHED-TTL:P3D
REFRESH-INTERVAL:P3D
CALSCALE:GREGORIAN
BEGIN:VEVENT
DTSTART:20131108T130000Z
DTEND:20131108T143000Z
X-MICROSOFT-CDO-ALLDAYEVENT:FALSE
SUMMARY:November 2013 Coffee with the Membership
DESCRIPTION:This event is FREE to the membership and it is a way for people to get to know one \n\nanother on a more personal level. Claus Meyer from Raymond James starts each session with a topic and the conversation just goes from there ...
X-ALT-DESC;FMTTYPE=text/html:This event is FREE to the membership and it is a way for people to get to know one&nbsp\;<br />\nanother on a more personal level. Claus Meyer from Raymond James starts each session with a topic and the conversation just goes from there ...
LOCATION:Buehlers Fresh Foods Center Road
UID:e.160.1983
SEQUENCE:3
DTSTAMP:20260421T183634Z
URL:https://members.nmccalliance.com/events/details/november-2013-coffee-with-the-membership-11-08-2013-1983
END:VEVENT

END:VCALENDAR
