BEGIN:VCALENDAR
VERSION:2.0
PRODID:-//ChamberMaster//Event Calendar 2.0//EN
METHOD:PUBLISH
X-PUBLISHED-TTL:P3D
REFRESH-INTERVAL:P3D
CALSCALE:GREGORIAN
BEGIN:VEVENT
DTSTART:20211117T163000Z
DTEND:20211117T183000Z
X-MICROSOFT-CDO-ALLDAYEVENT:FALSE
SUMMARY:November Member Meeting: NMCCA Veteran Owned Business Recognition Luncheon
DESCRIPTION:It is important for us as a chamber to honor and thank our veteran owned business owners for their service to our country. Our member luncheon will not be typical\, as we will be honoring and celebrating these business members. You do not want to miss our November 17th member luncheon at the Brunswick Recreation Center.\n\n\n\nA special thank you to  Westfield Foundation for recognizing the importance of honoring our veterans by sponsoring this campaign and our special ceremony on November 17th at the Brunswick Recreation Center. Please note this luncheon will start at 11:30AM - 1:30PM\n\n\n\nAnd a special shout out to Community Energy Advisors for providing dessert for our luncheon.\n\n \nThe chamber is happy to announce that we will be collecting for Toys for Tots this year.  Nationally\, Toys for Tots is a top-rated charity.  Toys for Tots is a U.S. Marine Corps Reserve program.  The goal of the Marine Corps Reserve Toys for Tots program is to deliver\, through a new toy at Christmas\, a message of hope to less fortunate youngsters that will assist them in becoming responsible\, productive\, patriotic citizens.  \n\nWe will be collecting new toys (unwrapped) at our November luncheon that is honoring our Veteran Business Owners.  Please consider donating a toy for this great cause.  All toys will be given to local families in Medina County.  If you cannot attend our luncheon\, but would like to donate\, please contact the chamber office and we will collect your donation.  330.225.8411
X-ALT-DESC;FMTTYPE=text/html:<span style="color:#000000\;"><span style="font-family:arial\;"><span style="font-size: 18px\; margin: 0px\; padding: 0px\; border: 0px\; font-variant-numeric: inherit\; font-variant-east-asian: inherit\; font-stretch: inherit\; line-height: inherit\; vertical-align: baseline\; background-color: rgb(255\, 255\, 255)\;">It is important for us as a chamber to honor and thank our veteran owned business owners for their service to our country.</span><span style="font-size: 18px\; margin: 0px\; padding: 0px\; border: 0px\; font-variant-numeric: inherit\; font-variant-east-asian: inherit\; font-stretch: inherit\; line-height: inherit\; vertical-align: baseline\; background-color: rgb(255\, 255\, 255)\;">&nbsp\;Our member luncheon will not be typical\, as we will be honoring and celebrating these business members. You do not want to miss our November 17th</span><span style="margin: 0px\; padding: 0px\; border: 0px\; font-variant-numeric: inherit\; font-variant-east-asian: inherit\; font-stretch: inherit\; line-height: inherit\; vertical-align: baseline\; background-color: rgb(255\, 255\, 255)\;"><font size="4">&nbsp\;member luncheon at the</font><span style="font-size: 20px\;">&nbsp\;</span></span><span style="font-size:18px\;">Brunswick Recreation Center.</span></span></span><br />\n<br />\n<span style="font-family:arial\;"><span style="font-size:18px\;"><span style="color:#000000\;"><span style="margin: 0px\; padding: 0px\; border: 0px\; font-variant-numeric: inherit\; font-variant-east-asian: inherit\; font-stretch: inherit\; line-height: inherit\; vertical-align: baseline\; background-color: rgb(255\, 255\, 255)\;">A special thank you to&nbsp\;&nbsp\;</span></span><a href="https://www.westfieldinsurance.com/about-us/community"><span style="color:#0000FF\;"><em><span style="font-size:20px\;">Westfield Foundation</span></em></span></a><span style="color:#000000\;"><span style="margin: 0px\; padding: 0px\; border: 0px\; font-variant-numeric: inherit\; font-variant-east-asian: inherit\; font-stretch: inherit\; line-height: inherit\; vertical-align: baseline\; background-color: rgb(255\, 255\, 255)\;"><span style="font-size:24px\;">&nbsp\;</span>for recognizing the importance of honoring our veterans by sponsoring this campaign and our special ceremony on November 17</span><sup style="font-family: Arial\, Verdana\, Helvetica\, sans-serif\; background-color: rgb(255\, 255\, 255)\; line-height: 0\; font-size: 9.8px\;">th</sup><span style="margin: 0px\; padding: 0px\; border: 0px\; font-variant-numeric: inherit\; font-variant-east-asian: inherit\; font-stretch: inherit\; line-height: inherit\; vertical-align: baseline\; background-color: rgb(255\, 255\, 255)\;">&nbsp\;at the Brunswick Recreation Center. Please note this luncheon will start at 11:30AM - 1:30PM<br />\n<br />\nAnd a special shout out to </span></span><span style="font-size:20px\;"><span style="margin: 0px\; padding: 0px\; border: 0px\; font-variant-numeric: inherit\; font-variant-east-asian: inherit\; font-stretch: inherit\; line-height: inherit\; vertical-align: baseline\; background-color: rgb(255\, 255\, 255)\;"><em><a href="https://ceateam.com/"><span style="color:#0000FF\;">Community Energy Advisors</span></a></em></span></span><span style="color:#000000\;"><span style="margin: 0px\; padding: 0px\; border: 0px\; font-variant-numeric: inherit\; font-variant-east-asian: inherit\; font-stretch: inherit\; line-height: inherit\; vertical-align: baseline\; background-color: rgb(255\, 255\, 255)\;"> for providing dessert for our luncheon.</span></span></span></span><br />\n&nbsp\;\n<div style="margin: 0px\; padding: 0px\; border: 0px\; font-variant-numeric: inherit\; font-variant-east-asian: inherit\; font-stretch: inherit\; font-size: 12pt\; line-height: inherit\; font-family: Calibri\, Arial\, Helvetica\, sans-serif\; vertical-align: baseline\; background-color: rgb(255\, 255\, 255)\;"><span style="font-size:18px\;"><span style="font-family:arial\;"><span style="margin: 0px\; padding: 0px\; border: 0px\; font-style: inherit\; font-variant: inherit\; font-stretch: inherit\; line-height: inherit\; vertical-align: baseline\; color: inherit\;"><em style="margin: 0px\;">The chamber is happy to announce that we will be collecting for Toys for Tots this year.&nbsp\; Nationally\, Toys for Tots is a top-rated charity.&nbsp\; Toys for Tots is a U.S. Marine Corps Reserve program.&nbsp\; The goal of the Marine Corps Reserve Toys for Tots program is to deliver\, through a new toy at Christmas\, a message of hope to less fortunate youngsters that will assist them in becoming responsible\, productive\, patriotic citizens.&nbsp\;&nbsp\;</em></span></span></span></div>\n\n<div style="margin: 0px\; padding: 0px\; border: 0px\; font-variant-numeric: inherit\; font-variant-east-asian: inherit\; font-stretch: inherit\; font-size: 12pt\; line-height: inherit\; font-family: Calibri\, Arial\, Helvetica\, sans-serif\; vertical-align: baseline\; background-color: rgb(255\, 255\, 255)\;"><span style="font-size:18px\;"><span style="font-family:arial\;"><span style="margin: 0px\; padding: 0px\; border: 0px\; font-style: inherit\; font-variant: inherit\; font-stretch: inherit\; line-height: inherit\; vertical-align: baseline\; color: inherit\;"><em style="margin: 0px\;">We will be collecting&nbsp\;new toys (unwrapped) at our November luncheon that is honoring our Veteran Business Owners.&nbsp\; Please consider donating a toy for this great cause.&nbsp\;&nbsp\;All toys will be given to local families in Medina County.&nbsp\; If you cannot attend our luncheon\, but would like to donate\, please contact the chamber office and we will collect your donation.&nbsp\; 330.225.8411</em></span></span></span></div>\n<br />\n&nbsp\;
LOCATION:Brunswick Recreation Center 3637 Center Rd. Brunswick\, OH 44212
UID:e.160.2864
SEQUENCE:3
DTSTAMP:20260419T224415Z
URL:https://members.nmccalliance.com/events/details/november-member-meeting-nmcca-veteran-owned-business-recognition-luncheon-2864
END:VEVENT

END:VCALENDAR
