BEGIN:VCALENDAR
VERSION:2.0
PRODID:-//ChamberMaster//Event Calendar 2.0//EN
METHOD:PUBLISH
X-PUBLISHED-TTL:P3D
REFRESH-INTERVAL:P3D
CALSCALE:GREGORIAN
BEGIN:VEVENT
DTSTART:20131011T120000Z
DTEND:20131011T133000Z
X-MICROSOFT-CDO-ALLDAYEVENT:FALSE
SUMMARY:October 2013 Coffee with the Membership
DESCRIPTION:This event is FREE to the membership and it is a way for people to get to know one\n\nanother on a more personal level.  Claus Meyer from Raymond James starts each session with a topic ad the conversation just goes from there ...
X-ALT-DESC;FMTTYPE=text/html:This event is FREE to the membership and it is a way for people to get to know one<br />\nanother on a more personal level. &nbsp\;Claus Meyer from Raymond James starts each session with a topic ad the conversation just goes from there ...
LOCATION:Brunswick University Center (Tri-C building) Center Road
UID:e.160.1982
SEQUENCE:3
DTSTAMP:20260421T201614Z
URL:https://members.nmccalliance.com/events/details/october-2013-coffee-with-the-membership-10-11-2013-1982
END:VEVENT

END:VCALENDAR
