BEGIN:VCALENDAR
VERSION:2.0
PRODID:-//ChamberMaster//Event Calendar 2.0//EN
METHOD:PUBLISH
X-PUBLISHED-TTL:P3D
REFRESH-INTERVAL:P3D
CALSCALE:GREGORIAN
BEGIN:VEVENT
DTSTART:20211020T153000Z
DTEND:20211020T170000Z
X-MICROSOFT-CDO-ALLDAYEVENT:FALSE
SUMMARY:October Member Meeting: School Roundtables-Brunswick\, Brunswick City\, Buckeye\, Highland and MCCC
DESCRIPTION:School District Round Table Discussions\n\n \n\nAs a critical component to our area's economic health\, our schools are continuously striving to provide better programming and cutting-edge resources. Representatives from:\n\n \n\n Brunswick\, Jason Niedermeyer \n\nBuckeye\, Jeff Harrison \n\nHighland\, Cathy Aukerman\n\nMedina County Career Center Steve Chrisman\n\n\n\nThey will share their district's goals and focus\, covering topics such as:\n\n \n\n- New technology impacting the classrooms\n\n- Exposing students to varying career options\n\n- Getting students ready to enter the workforce or higher education\n- Opportunities for businesses to get involved\n\n \nLocation:  Amy's Rustic Event Center\n\n6780 Center Rd.\n\nValley City\n\n\nThank you to Baskets Galore\, who will be our luncheon sponsor.  Come prepared to be awed.
X-ALT-DESC;FMTTYPE=text/html:<p class="x_MsoNormal" style="margin: 0in 0in 0.0001pt\; line-height: 15.6933px\; font-size: 11pt\; font-family: Calibri\, sans-serif\;"><span style="font-family: tahoma\;"><span style="font-size: 20px\;"><strong><span style="margin: 0px\; padding: 0px\; border: 0px\; font-style: inherit\; font-variant-ligatures: inherit\; font-variant-position: inherit\; font-variant-caps: inherit\; font-variant-numeric: inherit\; font-variant-alternates: inherit\; font-variant-east-asian: inherit\; font-weight: inherit\; font-stretch: inherit\; line-height: inherit\; vertical-align: baseline\; color: inherit\;">&nbsp\;</span></strong></span></span></p>\n\n<p class="x_MsoNormal" style="margin: 0in 0in 0.0001pt\; line-height: 15.6933px\; font-size: 11pt\; font-family: Calibri\, sans-serif\;"><span style="margin: 0px\; padding: 0px\; border: 0px\; font-family: inherit\; font-size: inherit\; font-style: inherit\; font-variant-caps: inherit\; font-stretch: inherit\; line-height: inherit\; vertical-align: baseline\; color: inherit\;">&nbsp\;</span></p>\n\n<p class="x_MsoNormal" style="margin: 0in 0in 0.0001pt\; line-height: 15.6933px\; font-size: 11pt\; font-family: Calibri\, sans-serif\;">&nbsp\;</p>\n\n<div style="caret-color: rgb(0\, 0\, 0)\; color: rgb(0\, 0\, 0)\; font-size: 12pt\; font-style: inherit\; font-variant-caps: inherit\; margin: 0px\; padding: 0px\; border: 0px\; font-family: Calibri\, Arial\, Helvetica\, sans-serif\, serif\, EmojiFont\; font-stretch: inherit\; line-height: inherit\; vertical-align: baseline\;">\n<p style="margin-top: 0px\; margin-bottom: 0px\; color: rgb(51\, 51\, 51)\; font-family: Calibri\, Helvetica\, sans-serif\, serif\, EmojiFont\; text-align: center\;"><span style="font-family:arial\;"><span style="font-size:20px\;"><strong>School District Round Table Discussions</strong></span></span></p>\n\n<p style="margin-top: 0px\; margin-bottom: 0px\; color: rgb(51\, 51\, 51)\; font-family: Calibri\, Helvetica\, sans-serif\, serif\, EmojiFont\; text-align: center\;">&nbsp\;</p>\n\n<div style="margin: 0px\; padding: 0px\; border: 0px\; font-family: Calibri\, Helvetica\, sans-serif\, serif\, EmojiFont\; font-size: inherit\; font-style: inherit\; font-variant-caps: inherit\; font-stretch: inherit\; line-height: inherit\; vertical-align: baseline\; color: rgb(51\, 51\, 51)\;"><span style="font-family:arial\;"><span style="font-size:18px\;"><span color="" span="" style="margin: 0px\; padding: 0px\; border: 0px\; font-style: inherit\; font-variant-caps: inherit\; font-stretch: inherit\; line-height: inherit\; vertical-align: baseline\; color: inherit\;">As a critical component to our area&#39\;s economic health\, our schools are continuously striving to provide better programming and cutting-edge resources. Representatives from:</span></span></span><br />\n&nbsp\;</div>\n\n<div style="margin: 0px\; padding: 0px\; border: 0px\; font-family: Calibri\, Helvetica\, sans-serif\, serif\, EmojiFont\; font-size: inherit\; font-style: inherit\; font-variant-caps: inherit\; font-stretch: inherit\; line-height: inherit\; vertical-align: baseline\; color: rgb(51\, 51\, 51)\; text-align: center\;"><span style="font-family:arial\;"><span style="font-size:18px\;">&nbsp\;Brunswick\, Jason Niedermeyer&nbsp\;<br />\nBuckeye\, Jeff Harrison&nbsp\;<br />\nHighland\, Cathy Aukerman<br />\nMedina County Career Center Steve Chrisman</span></span></div>\n\n<div style="margin: 0px\; padding: 0px\; border: 0px\; font-family: Calibri\, Helvetica\, sans-serif\, serif\, EmojiFont\; font-size: inherit\; font-style: inherit\; font-variant-caps: inherit\; font-stretch: inherit\; line-height: inherit\; vertical-align: baseline\; color: rgb(51\, 51\, 51)\;"><br />\n<span style="font-family:arial\;"><span style="font-size:18px\;">They&nbsp\;will share their district&#39\;s&nbsp\;goals and focus\, covering topics such as:</span></span></div>\n\n<div style="margin: 0px\; padding: 0px\; border: 0px\; font-family: Calibri\, Helvetica\, sans-serif\, serif\, EmojiFont\; font-size: inherit\; font-style: inherit\; font-variant-caps: inherit\; font-stretch: inherit\; line-height: inherit\; vertical-align: baseline\; color: rgb(51\, 51\, 51)\;">&nbsp\;</div>\n\n<div style="margin: 0px\; padding: 0px\; border: 0px\; font-family: Calibri\, Helvetica\, sans-serif\, serif\, EmojiFont\; font-size: inherit\; font-style: inherit\; font-variant-caps: inherit\; font-stretch: inherit\; line-height: inherit\; vertical-align: baseline\; color: rgb(51\, 51\, 51)\;"><span style="font-family:arial\;"><span style="font-size:18px\;">- New technology impacting the classrooms</span></span></div>\n\n<div style="margin: 0px\; padding: 0px\; border: 0px\; font-family: Calibri\, Helvetica\, sans-serif\, serif\, EmojiFont\; font-size: inherit\; font-style: inherit\; font-variant-caps: inherit\; font-stretch: inherit\; line-height: inherit\; vertical-align: baseline\; color: rgb(51\, 51\, 51)\;"><span style="font-family:arial\;"><span style="font-size:18px\;">- Exposing students to varying&nbsp\;career options</span></span></div>\n\n<div style="margin: 0px\; padding: 0px\; border: 0px\; font-family: Calibri\, Helvetica\, sans-serif\, serif\, EmojiFont\; font-size: inherit\; font-style: inherit\; font-variant-caps: inherit\; font-stretch: inherit\; line-height: inherit\; vertical-align: baseline\; color: rgb(51\, 51\, 51)\;"><span style="font-family:arial\;"><span style="font-size:18px\;">- Getting students ready to enter the workforce or&nbsp\;higher education</span></span></div>\n<span style="font-family:arial\;"><span style="font-size:18px\;"><span style="margin: 0px\; padding: 0px\; border: 0px\; font-style: inherit\; font-variant-caps: inherit\; font-stretch: inherit\; line-height: inherit\; vertical-align: baseline\; color: rgb(51\, 51\, 51)\;">- Opportunities for businesses to get involved</span></span></span><br />\n&nbsp\;\n<div style="text-align: center\;"><span style="font-family:arial\;"><span style="font-size:18px\;"><span style="margin: 0px\; padding: 0px\; border: 0px\; font-style: inherit\; font-variant-caps: inherit\; font-stretch: inherit\; line-height: inherit\; vertical-align: baseline\; color: rgb(51\, 51\, 51)\;">Location:&nbsp\; Amy&#39\;s Rustic Event Center<br />\n6780 Center Rd.</span></span></span></div>\n\n<div style="text-align: center\;"><span style="font-family:arial\;"><span style="font-size:18px\;"><span style="margin: 0px\; padding: 0px\; border: 0px\; font-style: inherit\; font-variant-caps: inherit\; font-stretch: inherit\; line-height: inherit\; vertical-align: baseline\; color: rgb(51\, 51\, 51)\;">Valley City</span></span></span></div>\n<br />\n<span style="font-family:arial\;"><span style="font-size:18px\;"><span style="margin: 0px\; padding: 0px\; border: 0px\; font-style: inherit\; font-variant-caps: inherit\; font-stretch: inherit\; line-height: inherit\; vertical-align: baseline\; color: rgb(51\, 51\, 51)\;">Thank you to </span><span style="color:#0000CD\;"><span style="margin: 0px\; padding: 0px\; border: 0px\; font-style: inherit\; font-variant-caps: inherit\; font-stretch: inherit\; line-height: inherit\; vertical-align: baseline\;"><em>Baskets Galore</em></span></span><span style="margin: 0px\; padding: 0px\; border: 0px\; font-style: inherit\; font-variant-caps: inherit\; font-stretch: inherit\; line-height: inherit\; vertical-align: baseline\; color: rgb(51\, 51\, 51)\;">\, who will be our luncheon sponsor.&nbsp\; Come prepared to be awed.</span></span></span></div>\n\n<div style="caret-color: rgb(0\, 0\, 0)\; color: inherit\; font-family: inherit\; font-style: inherit\; font-variant-caps: inherit\; margin: 0px\; padding: 0px\; border: 0px\; font-size: inherit\; font-stretch: inherit\; line-height: inherit\; vertical-align: baseline\;">&nbsp\;</div>\n\n<p class="x_MsoNormal" style="margin: 0in 0in 0.0001pt\; line-height: 15.6933px\; font-size: 11pt\; font-family: Calibri\, sans-serif\;">&nbsp\;</p>\n\n<div>&nbsp\;</div>\n
LOCATION:Amy's Rustic Event Center 6780 Center Rd. Valley\, City\, OH 44280
UID:e.160.2863
SEQUENCE:3
DTSTAMP:20260419T223855Z
URL:https://members.nmccalliance.com/events/details/october-member-meeting-school-roundtables-brunswick-brunswick-city-buckeye-highland-and-mccc-2863
END:VEVENT

END:VCALENDAR
