BEGIN:VCALENDAR
VERSION:2.0
PRODID:-//ChamberMaster//Event Calendar 2.0//EN
METHOD:PUBLISH
X-PUBLISHED-TTL:P3D
REFRESH-INTERVAL:P3D
CALSCALE:GREGORIAN
BEGIN:VEVENT
DTSTART:20110805T220000Z
DTEND:20110806T003000Z
X-MICROSOFT-CDO-ALLDAYEVENT:FALSE
SUMMARY:On Stage Alaska Live Performance
DESCRIPTION:Always dreamed of visiting Alaska?\n\n\n\nYou're invited to ON STAGE ALASKA\, an entertaining live performance by Alaska experts! Produced by Holland America Line\, this show features music and awe-inspiring film footage of Denali National Park and the spectacular wilderness of the Yukon. Join our Alaska Experts as they captivate you with their knowledge and enthusiasm about this magical destination.\n\n\n\nOn Stage Alaska is the perfect way to begin planning your own Great Land adventure with Holland America Line and KHM Travel.\n\n\n\nFree Admission!\n\nBring a Friend!\n\nRefreshments & Door Prizes!\n\nExclusive Travel Deals & Booking Incentives!\n\n\n\nLearn more and pre-register today at www.AlaskaShow2011.com or RSVP by phone to KHM Travel at 440.628.3024.
X-ALT-DESC;FMTTYPE=text/html:<span style="color: #0000cd"><span style="font-size: 14px">Always dreamed of visiting Alaska?</span></span><br />\n<br />\nYou&#39\;re invited to <span style="color: #000080">ON STAGE ALASKA</span>\, an entertaining live performance by Alaska experts! Produced by Holland America Line\, this show features music and awe-inspiring film footage of Denali National Park and the spectacular wilderness of the Yukon. Join our Alaska Experts as they captivate you with their knowledge and enthusiasm about this magical destination.<br />\n<br />\nOn Stage Alaska is the perfect way to begin planning your own Great Land adventure with Holland America Line and KHM Travel.<br />\n<br />\n<span style="color: #000080"><span style="font-size: 12px">Free Admission!<br />\nBring a Friend!<br />\nRefreshments &amp\; Door Prizes!<br />\nExclusive Travel Deals &amp\; Booking Incentives!</span></span><br />\n<br />\n<span style="font-size: 12px">Learn more and pre-register today at <span style="color: #0000ff">www.AlaskaShow2011.com</span> or RSVP by phone to <span style="color: #0000ff">KHM Travel </span>at <span style="color: #0000ff">440.628.3024</span>.</span><br />\n
LOCATION:Brunswick Community Recreation and Fitness Center - 3637 Center Road
UID:e.160.1674
SEQUENCE:3
DTSTAMP:20260423T145745Z
URL:https://members.nmccalliance.com/events/details/on-stage-alaska-live-performance-08-05-2011-1674
END:VEVENT

END:VCALENDAR
