BEGIN:VCALENDAR
VERSION:2.0
PRODID:-//ChamberMaster//Event Calendar 2.0//EN
METHOD:PUBLISH
X-PUBLISHED-TTL:P3D
REFRESH-INTERVAL:P3D
CALSCALE:GREGORIAN
BEGIN:VEVENT
DTSTART:20100519T113000Z
DTEND:20100519T130000Z
X-MICROSOFT-CDO-ALLDAYEVENT:FALSE
SUMMARY:Plum Creek Chamber Breakfast
DESCRIPTION:Catered by Plum Creek at Plum Creek. Breakfast: 7:30 AM to 8:00 AMProgram:  8:00 AM to 9:00 AM Speaker:   Alternative Energy Sources
X-ALT-DESC;FMTTYPE=text/html:<div>Catered by Plum Creek at Plum Creek.</div><div>&nbsp\;</div><div>Breakfast: 7:30 AM to 8:00 AM</div><div>Program:&nbsp\;&nbsp\;8:00 AM to 9:00 AM</div><div>&nbsp\;</div><div>Speaker:&nbsp\;&nbsp\; Alternative Energy Sources</div><div>&nbsp\;</div>
LOCATION:Plum Creek891 Marks RoadBrunswick OH 44212
UID:e.160.1042
SEQUENCE:3
DTSTAMP:20260425T042222Z
URL:https://members.nmccalliance.com/events/details/plum-creek-chamber-breakfast-05-19-2010-1042
END:VEVENT

END:VCALENDAR
