BEGIN:VCALENDAR
VERSION:2.0
PRODID:-//ChamberMaster//Event Calendar 2.0//EN
METHOD:PUBLISH
X-PUBLISHED-TTL:P3D
REFRESH-INTERVAL:P3D
CALSCALE:GREGORIAN
BEGIN:VEVENT
DTSTART:20100605T140000Z
DTEND:20100605T180000Z
X-MICROSOFT-CDO-ALLDAYEVENT:FALSE
SUMMARY:Practical Martial Arts Open House
DESCRIPTION:
X-ALT-DESC;FMTTYPE=text/html:
LOCATION:
UID:e.160.1285
SEQUENCE:3
DTSTAMP:20260425T011612Z
URL:https://members.nmccalliance.com/events/details/practical-martial-arts-open-house-06-05-2010-1285
END:VEVENT

END:VCALENDAR
