BEGIN:VCALENDAR
VERSION:2.0
PRODID:-//ChamberMaster//Event Calendar 2.0//EN
METHOD:PUBLISH
X-PUBLISHED-TTL:P3D
REFRESH-INTERVAL:P3D
CALSCALE:GREGORIAN
BEGIN:VEVENT
DTSTART:20110819T120000Z
DTEND:20110819T150000Z
X-MICROSOFT-CDO-ALLDAYEVENT:FALSE
SUMMARY:Progressive Business Tours - August 2011
DESCRIPTION:
X-ALT-DESC;FMTTYPE=text/html:
LOCATION:Center Rd.
UID:e.160.1635
SEQUENCE:3
DTSTAMP:20260423T150644Z
URL:https://members.nmccalliance.com/events/details/progressive-business-tours-august-2011-08-19-2011-1635
END:VEVENT

END:VCALENDAR
