BEGIN:VCALENDAR
VERSION:2.0
PRODID:-//ChamberMaster//Event Calendar 2.0//EN
METHOD:PUBLISH
X-PUBLISHED-TTL:P3D
REFRESH-INTERVAL:P3D
CALSCALE:GREGORIAN
BEGIN:VEVENT
DTSTART:20110218T130000Z
DTEND:20110218T160000Z
X-MICROSOFT-CDO-ALLDAYEVENT:FALSE
SUMMARY:Progressive Business Tours - February 2011
DESCRIPTION:
X-ALT-DESC;FMTTYPE=text/html:
LOCATION:
UID:e.160.1585
SEQUENCE:3
DTSTAMP:20260424T010017Z
URL:https://members.nmccalliance.com/events/details/progressive-business-tours-february-2011-02-18-2011-1585
END:VEVENT

END:VCALENDAR
