BEGIN:VCALENDAR
VERSION:2.0
PRODID:-//ChamberMaster//Event Calendar 2.0//EN
METHOD:PUBLISH
X-PUBLISHED-TTL:P3D
REFRESH-INTERVAL:P3D
CALSCALE:GREGORIAN
BEGIN:VEVENT
DTSTART;VALUE=DATE:20120728
DTEND;VALUE=DATE:20120729
TRANSP:TRANSPARENT
X-MICROSOFT-CDO-ALLDAYEVENT:TRUE
SUMMARY:Reflection Beads and Charms Sale
DESCRIPTION:Corder's Jewelers is proud to present by popular demand their HUGE Reflection Beads and Charms Sale\, this Saturday\, July 28th from 10am to 6pm.  Swarovski cyrstal beads\, Italian Murano glass beads\, Sterling Silver bracelets\, Charms and Earrings will be discounted 50% off.  Our Reflection Beads and Charms are made the same way as Pandora\, Camilla and Troll beads and charms but are much less and they are compatible with all three styles.  Save your hard earned cash and call us\, (330) 225-5757 today to reserve your reservation time slot for that day.  Limited spots are available so hurry and call us.\n\n\n\nCorder's Jewelers\, Where Your Dreams Come true\,\n\n\n\nLocated at 3841 Center Road\, Brunswick Oh. next to Enterprise rent a car.
X-ALT-DESC;FMTTYPE=text/html:Corder's Jewelers is proud to present by popular demand their HUGE Reflection Beads and Charms Sale\, this Saturday\, July 28th from 10am to 6pm.&nbsp\; Swarovski cyrstal beads\, Italian Murano glass beads\, Sterling Silver bracelets\, Charms and Earrings will be discounted 50% off.&nbsp\; Our Reflection Beads and Charms are made the same way as Pandora\, Camilla and Troll beads and charms&nbsp\;but are much less and they are compatible with all three styles.&nbsp\; Save your hard earned cash and call us\, (330) 225-5757 today to reserve your reservation time slot for that day.&nbsp\; Limited spots are available so hurry and call us.<br>\n<br>\nCorder's Jewelers\, Where Your Dreams Come true\,<br>\n<br>\nLocated at 3841 Center Road\, Brunswick Oh. next to Enterprise rent a car.
LOCATION:3841 Center Road\, Brunswick Oh
UID:e.160.1759
SEQUENCE:3
DTSTAMP:20260422T223855Z
URL:https://members.nmccalliance.com/events/details/reflection-beads-and-charms-sale-07-28-2012-1759
END:VEVENT

END:VCALENDAR
